Workbook

Sheet 2023
A1: TABLE ID | B1: API DATASET | C1: API LINK | D1: CEDSCI LINK | E1: FTP LINK
A2: AIES22CLASS | B2: AIESMISCSECTOR2023 | C2: http://api.census.gov/data/2023/aiesmiscsector.html | D2: =CONCATENATE('lookup stuff'!$A$1,'2023'!B2,'lookup stuff'!$A$3,'2023'!A2,'lookup stuff'!$A$2,'2023'!A2) -> https://data.census.gov/table/AIESMISCSECTOR2023.AIES22CLASS?q=AIES22CLASS | E2: =CONCATENATE('lookup stuff'!$A$4,'2023'!A2,'lookup stuff'!$A$5) -> https://www2.census.gov/programs-surveys/aies/data/2023/AIES22CLASS.zip
A3: AIES56CLASS | B3: AIESMISCSECTOR2023 | C3: http://api.census.gov/data/2023/aiesmiscsector.html | D3: =CONCATENATE('lookup stuff'!$A$1,'2023'!B3,'lookup stuff'!$A$3,'2023'!A3,'lookup stuff'!$A$2,'2023'!A3) -> https://data.census.gov/table/AIESMISCSECTOR2023.AIES56CLASS?q=AIES56CLASS | E3: =CONCATENATE('lookup stuff'!$A$4,'2023'!A3,'lookup stuff'!$A$5) -> https://www2.census.gov/programs-surveys/aies/data/2023/AIES56CLASS.zip
A4: AIES48PROD | B4: AIESMISCSECTOR2023 | C4: http://api.census.gov/data/2023/aiesmiscsector.html | D4: =CONCATENATE('lookup stuff'!$A$1,'2023'!B4,'lookup stuff'!$A$3,'2023'!A4,'lookup stuff'!$A$2,'2023'!A4) -> https://data.census.gov/table/AIESMISCSECTOR2023.AIES48PROD?q=AIES48PROD | E4: =CONCATENATE('lookup stuff'!$A$4,'2023'!A4,'lookup stuff'!$A$5) -> https://www2.census.gov/programs-surveys/aies/data/2023/AIES48PROD.zip
A5: AIES00ECOM | B5: AIESECOM2023 | C5: http://api.census.gov/data/2023/aiesecom.html | D5: =CONCATENATE('lookup stuff'!$A$1,'2023'!B5,'lookup stuff'!$A$3,'2023'!A5,'lookup stuff'!$A$2,'2023'!A5) -> https://data.census.gov/table/AIESECOM2023.AIES00ECOM?q=AIES00ECOM | E5: =CONCATENATE('lookup stuff'!$A$4,'2023'!A5,'lookup stuff'!$A$5) -> https://www2.census.gov/programs-surveys/aies/data/2023/AIES00ECOM.zip
A6: AIES00EXP01 | B6: AIESEXP012023 | C6: http://api.census.gov/data/2023/aiesexp01.html | D6: =CONCATENATE('lookup stuff'!$A$1,'2023'!B6,'lookup stuff'!$A$3,'2023'!A6,'lookup stuff'!$A$2,'2023'!A6) -> https://data.census.gov/table/AIESEXP012023.AIES00EXP01?q=AIES00EXP01 | E6: =CONCATENATE('lookup stuff'!$A$4,'2023'!A6,'lookup stuff'!$A$5) -> https://www2.census.gov/programs-surveys/aies/data/2023/AIES00EXP01.zip
A7: AIES00EXP02 | B7: AIESEXP022023 | C7: http://api.census.gov/data/2023/aiesexp02.html | D7: =CONCATENATE('lookup stuff'!$A$1,'2023'!B7,'lookup stuff'!$A$3,'2023'!A7,'lookup stuff'!$A$2,'2023'!A7) -> https://data.census.gov/table/AIESEXP022023.AIES00EXP02?q=AIES00EXP02 | E7: =CONCATENATE('lookup stuff'!$A$4,'2023'!A7,'lookup stuff'!$A$5) -> https://www2.census.gov/programs-surveys/aies/data/2023/AIES00EXP02.zip
A8: AIES00INV | B8: AIESINV2023 | C8: http://api.census.gov/data/2023/aiesinv.html | D8: =CONCATENATE('lookup stuff'!$A$1,'2023'!B8,'lookup stuff'!$A$3,'2023'!A8,'lookup stuff'!$A$2,'2023'!A8) -> https://data.census.gov/table/AIESINV2023.AIES00INV?q=AIES00INV | E8: =CONCATENATE('lookup stuff'!$A$4,'2023'!A8,'lookup stuff'!$A$5) -> https://www2.census.gov/programs-surveys/aies/data/2023/AIES00INV.zip
A9: AIES00BASIC | B9: AIESBASIC2023 | C9: http://api.census.gov/data/2023/aiesbasic.html | D9: =CONCATENATE('lookup stuff'!$A$1,'2023'!B9,'lookup stuff'!$A$3,'2023'!A9,'lookup stuff'!$A$2,'2023'!A9) -> https://data.census.gov/table/AIESBASIC2023.AIES00BASIC?q=AIES00BASIC | E9: =CONCATENATE('lookup stuff'!$A$4,'2023'!A9,'lookup stuff'!$A$5) -> https://www2.census.gov/programs-surveys/aies/data/2023/AIES00BASIC.zip
A10: AIES42AGBR | B10: AIESMISCSECTOR2023 | C10: http://api.census.gov/data/2023/aiesmiscsector.html | D10: =CONCATENATE('lookup stuff'!$A$1,'2023'!B10,'lookup stuff'!$A$3,'2023'!A10,'lookup stuff'!$A$2,'2023'!A10) -> https://data.census.gov/table/AIESMISCSECTOR2023.AIES42AGBR?q=AIES42AGBR | E10: =CONCATENATE('lookup stuff'!$A$4,'2023'!A10,'lookup stuff'!$A$5) -> https://www2.census.gov/programs-surveys/aies/data/2023/AIES42AGBR.zip
A11: AIES62TELEMEDS | B11: AIESMISCSECTOR2023 | C11: http://api.census.gov/data/2023/aiesmiscsector.html | D11: =CONCATENATE('lookup stuff'!$A$1,'2023'!B11,'lookup stuff'!$A$3,'2023'!A11,'lookup stuff'!$A$2,'2023'!A11) -> https://data.census.gov/table/AIESMISCSECTOR2023.AIES62TELEMEDS?q=AIES62TELEMEDS | E11: =CONCATENATE('lookup stuff'!$A$4,'2023'!A11,'lookup stuff'!$A$5) -> https://www2.census.gov/programs-surveys/aies/data/2023/AIES62TELEMEDS.zip
A12: AIES62PATVISITS | B12: AIESMISCSECTOR2023 | C12: http://api.census.gov/data/2023/aiesmiscsector.html | D12: =CONCATENATE('lookup stuff'!$A$1,'2023'!B12,'lookup stuff'!$A$3,'2023'!A12,'lookup stuff'!$A$2,'2023'!A12) -> https://data.census.gov/table/AIESMISCSECTOR2023.AIES62PATVISITS?q=AIES62PATVISITS | E12: =CONCATENATE('lookup stuff'!$A$4,'2023'!A12,'lookup stuff'!$A$5) -> https://www2.census.gov/programs-surveys/aies/data/2023/AIES62PATVISITS.zip
A13: AIES62INOUTPAT | B13: AIESMISCSECTOR2023 | C13: http://api.census.gov/data/2023/aiesmiscsector.html | D13: =CONCATENATE('lookup stuff'!$A$1,'2023'!B13,'lookup stuff'!$A$3,'2023'!A13,'lookup stuff'!$A$2,'2023'!A13) -> https://data.census.gov/table/AIESMISCSECTOR2023.AIES62INOUTPAT?q=AIES62INOUTPAT | E13: =CONCATENATE('lookup stuff'!$A$4,'2023'!A13,'lookup stuff'!$A$5) -> https://www2.census.gov/programs-surveys/aies/data/2023/AIES62INOUTPAT.zip
... A28: AIES00NONEMP | B28: AIESNONEMP2023 | C28: http://api.census.gov/data/2023/aiesnonemp.html | D28: =CONCATENATE('lookup stuff'!$A$1,'2023'!B28,'lookup stuff'!$A$3,'2023'!A28,'lookup stuff'!$A$2,'2023'!A28) -> https://data.census.gov/table/AIESNONEMP2023.AIES00NONEMP?q=AIES00NONEMP | E28: =CONCATENATE('lookup stuff'!$A$4,'2023'!A28,'lookup stuff'!$A$5) -> https://www2.census.gov/programs-surveys/aies/data/2023/AIES00NONEMP.zip

Sheet 2024
A1: TABLE ID | B1: API DATASET | C1: API LINK | D1: CEDSCI LINK | E1: FTP LINK
A2: AIES00BASIC | B2: AIESBASIC2024 | D2: =CONCATENATE('lookup stuff'!$A$1,'2024'!B2,'lookup stuff'!$A$3,'2024'!A2,'lookup stuff'!$A$2,'2024'!A2) -> https://data.census.gov/table/AIESBASIC2024.AIES00BASIC?q=AIES00BASIC | E2: =CONCATENATE('lookup stuff'!$A$6,'2024'!A2,'lookup stuff'!$A$5) -> https://www2.census.gov/programs-surveys/aies/data/2024/AIES00BASIC.zip
A3: AIES00ECOM | B3: AIESECOM2024 | D3: =CONCATENATE('lookup stuff'!$A$1,'2024'!B3,'lookup stuff'!$A$3,'2024'!A3,'lookup stuff'!$A$2,'2024'!A3) -> https://data.census.gov/table/AIESECOM2024.AIES00ECOM?q=AIES00ECOM | E3: =CONCATENATE('lookup stuff'!$A$6,'2024'!A3,'lookup stuff'!$A$5) -> https://www2.census.gov/programs-surveys/aies/data/2024/AIES00ECOM.zip
A4: AIES00EXP02 | B4: AIESEXP022024 | D4: =CONCATENATE('lookup stuff'!$A$1,'2024'!B4,'lookup stuff'!$A$3,'2024'!A4,'lookup stuff'!$A$2,'2024'!A4) -> https://data.census.gov/table/AIESEXP022024.AIES00EXP02?q=AIES00EXP02 | E4: =CONCATENATE('lookup stuff'!$A$6,'2024'!A4,'lookup stuff'!$A$5) -> https://www2.census.gov/programs-surveys/aies/data/2024/AIES00EXP02.zip
A5: AIES00INV | B5: AIESINV2024 | D5: =CONCATENATE('lookup stuff'!$A$1,'2024'!B5,'lookup stuff'!$A$3,'2024'!A5,'lookup stuff'!$A$2,'2024'!A5) -> https://data.census.gov/table/AIESINV2024.AIES00INV?q=AIES00INV | E5: =CONCATENATE('lookup stuff'!$A$6,'2024'!A5,'lookup stuff'!$A$5) -> https://www2.census.gov/programs-surveys/aies/data/2024/AIES00INV.zip
A6: AIES22CLASS | B6: AIESMISCSECTOR2024 | D6: =CONCATENATE('lookup stuff'!$A$1,'2024'!B6,'lookup stuff'!$A$3,'2024'!A6,'lookup stuff'!$A$2,'2024'!A6) -> https://data.census.gov/table/AIESMISCSECTOR2024.AIES22CLASS?q=AIES22CLASS | E6: =CONCATENATE('lookup stuff'!$A$6,'2024'!A6,'lookup stuff'!$A$5) -> https://www2.census.gov/programs-surveys/aies/data/2024/AIES22CLASS.zip
A7: AIES31BASIC01 | B7: AIESBASIC2024 | D7: =CONCATENATE('lookup stuff'!$A$1,'2024'!B7,'lookup stuff'!$A$3,'2024'!A7,'lookup stuff'!$A$2,'2024'!A7) -> https://data.census.gov/table/AIESBASIC2024.AIES31BASIC01?q=AIES31BASIC01 | E7: =CONCATENATE('lookup stuff'!$A$6,'2024'!A7,'lookup stuff'!$A$5) -> https://www2.census.gov/programs-surveys/aies/data/2024/AIES31BASIC01.zip
A8: AIES31BASIC02 | B8: AIESBASIC2024 | D8: =CONCATENATE('lookup stuff'!$A$1,'2024'!B8,'lookup stuff'!$A$3,'2024'!A8,'lookup stuff'!$A$2,'2024'!A8) -> https://data.census.gov/table/AIESBASIC2024.AIES31BASIC02?q=AIES31BASIC02 | E8: =CONCATENATE('lookup stuff'!$A$6,'2024'!A8,'lookup stuff'!$A$5) -> https://www2.census.gov/programs-surveys/aies/data/2024/AIES31BASIC02.zip
A9: AIES31BASIC03 | B9: AIESBASIC2024 | D9: =CONCATENATE('lookup stuff'!$A$1,'2024'!B9,'lookup stuff'!$A$3,'2024'!A9,'lookup stuff'!$A$2,'2024'!A9) -> https://data.census.gov/table/AIESBASIC2024.AIES31BASIC03?q=AIES31BASIC03 | E9: =CONCATENATE('lookup stuff'!$A$6,'2024'!A9,'lookup stuff'!$A$5) -> https://www2.census.gov/programs-surveys/aies/data/2024/AIES31BASIC03.zip
A10: AIES31INV | B10: AIESMISCSECTOR2024 | D10: =CONCATENATE('lookup stuff'!$A$1,'2024'!B10,'lookup stuff'!$A$3,'2024'!A10,'lookup stuff'!$A$2,'2024'!A10) -> https://data.census.gov/table/AIESMISCSECTOR2024.AIES31INV?q=AIES31INV | E10: =CONCATENATE('lookup stuff'!$A$6,'2024'!A10,'lookup stuff'!$A$5) -> https://www2.census.gov/programs-surveys/aies/data/2024/AIES31INV.zip
A11: AIES42AGBR | B11: AIESMISCSECTOR2024 | D11: =CONCATENATE('lookup stuff'!$A$1,'2024'!B11,'lookup stuff'!$A$3,'2024'!A11,'lookup stuff'!$A$2,'2024'!A11) -> https://data.census.gov/table/AIESMISCSECTOR2024.AIES42AGBR?q=AIES42AGBR | E11: =CONCATENATE('lookup stuff'!$A$6,'2024'!A11,'lookup stuff'!$A$5) -> https://www2.census.gov/programs-surveys/aies/data/2024/AIES42AGBR.zip
A12: AIES42BASIC | B12: AIESMISCSECTOR2024 | D12: =CONCATENATE('lookup stuff'!$A$1,'2024'!B12,'lookup stuff'!$A$3,'2024'!A12,'lookup stuff'!$A$2,'2024'!A12) -> https://data.census.gov/table/AIESMISCSECTOR2024.AIES42BASIC?q=AIES42BASIC | E12: =CONCATENATE('lookup stuff'!$A$6,'2024'!A12,'lookup stuff'!$A$5) -> https://www2.census.gov/programs-surveys/aies/data/2024/AIES42BASIC.zip
A13: AIES42INV | B13: AIESMISCSECTOR2024 | D13: =CONCATENATE('lookup stuff'!$A$1,'2024'!B13,'lookup stuff'!$A$3,'2024'!A13,'lookup stuff'!$A$2,'2024'!A13) -> https://data.census.gov/table/AIESMISCSECTOR2024.AIES42INV?q=AIES42INV | E13: =CONCATENATE('lookup stuff'!$A$6,'2024'!A13,'lookup stuff'!$A$5) -> https://www2.census.gov/programs-surveys/aies/data/2024/AIES42INV.zip
... A26: AIES62TYPEPAYER | B26: AIESMISCSECTOR2024 | D26: =CONCATENATE('lookup stuff'!$A$1,'2024'!B26,'lookup stuff'!$A$3,'2024'!A26,'lookup stuff'!$A$2,'2024'!A26) -> https://data.census.gov/table/AIESMISCSECTOR2024.AIES62TYPEPAYER?q=AIES62TYPEPAYER | E26: =CONCATENATE('lookup stuff'!$A$6,'2024'!A26,'lookup stuff'!$A$5) -> https://www2.census.gov/programs-surveys/aies/data/2024/AIES62TYPEPAYER.zip

Sheet 2023 Links
A1: TABLE ID | B1: New API DATASET | C1: Old API DATASET | D1: NEW API LINK | E1: OLD API Link | F1: NEW data.census.gov LINK | G1: OLD data.census.gov LINK | H1: FTP LINK -No Change
A2: AIES00BASIC | B2: AIESBASIC2023 | C2: AIESBASICTIMESERIES | D2: http://api.census.gov/data/2023/aiesbasic.html | E2: http://api.census.gov/data/timeseries/aiesbasic.html | F2: https://data.census.gov/table/AIESBASIC2023.AIES00BASIC?q=AIES00BASIC | G2: https://data.census.gov/table/AIESBASICTIMESERIES.AIES00BASIC?q=AIES00BASIC | H2: https://www2.census.gov/programs-surveys/aies/data/2023/AIES00BASIC.zip
A3: AIES00ECOM | B3: AIESECOM2023 | C3: AIESECOMTIMESERIES | D3: http://api.census.gov/data/2023/aiesecom.html | E3: http://api.census.gov/data/timeseries/aiesecom.html | F3: https://data.census.gov/table/AIESECOM2023.AIES00ECOM?q=AIES00ECOM | G3: https://data.census.gov/table/AIESECOMTIMESERIES.AIES00ECOM?q=AIES00ECOM | H3: https://www2.census.gov/programs-surveys/aies/data/2023/AIES00ECOM.zip
A4: AIES00EXP01 | B4: AIESEXP012023 | C4: AIESEXP01TIMESERIES | D4: http://api.census.gov/data/2023/aiesexp01.html | E4: http://api.census.gov/data/timeseries/aiesexp01.html | F4: https://data.census.gov/table/AIESEXP012023.AIES00EXP01?q=AIES00EXP01 | G4: https://data.census.gov/table/AIESEXP01TIMESERIES.AIES00EXP01?q=AIES00EXP01 | H4: https://www2.census.gov/programs-surveys/aies/data/2023/AIES00EXP01.zip
A5: AIES00EXP02 | B5: AIESEXP022023 | C5: AIESEXP02TIMESERIES | D5: http://api.census.gov/data/2023/aiesexp02.html | E5: http://api.census.gov/data/timeseries/aiesexp02.html | F5: https://data.census.gov/table/AIESEXP022023.AIES00EXP02?q=AIES00EXP02 | G5: https://data.census.gov/table/AIESEXP02TIMESERIES.AIES00EXP02?q=AIES00EXP02 | H5: https://www2.census.gov/programs-surveys/aies/data/2023/AIES00EXP02.zip
A6: AIES00INV | B6: AIESINV2023 | C6: AIESINVTIMESERIES | D6: http://api.census.gov/data/2023/aiesinv.html | E6: http://api.census.gov/data/timeseries/aiesinv.html | F6: https://data.census.gov/table/AIESINV2023.AIES00INV?q=AIES00INV | G6: https://data.census.gov/table/AIESINVTIMESERIES.AIES00INV?q=AIES00INV | H6: https://www2.census.gov/programs-surveys/aies/data/2023/AIES00INV.zip
A7: AIES22CLASS | B7: AIESMISCSECTOR2023 | C7: AIESMISCSECTORTIMESERIES | D7: http://api.census.gov/data/2023/aiesmiscsector.html | E7: http://api.census.gov/data/timeseries/aiesmiscsector.html | F7: https://data.census.gov/table/AIESMISCSECTOR2023.AIES22CLASS?q=AIES22CLASS | G7: https://data.census.gov/table/AIESMISCSECTORTIMESERIES.AIES22CLASS?q=AIES22CLASS | H7: https://www2.census.gov/programs-surveys/aies/data/2023/AIES22CLASS.zip
A8: AIES31BASIC01 | B8: AIESBASIC2023 | C8: AIESBASICTIMESERIES | D8: http://api.census.gov/data/2023/aiesbasic.html | E8: http://api.census.gov/data/timeseries/aiesbasic.html | F8: https://data.census.gov/table/AIESBASIC2023.AIES31BASIC01?q=AIES31BASIC01 | G8: https://data.census.gov/table/AIESBASICTIMESERIES.AIES31BASIC01?q=AIES31BASIC01 | H8: https://www2.census.gov/programs-surveys/aies/data/2023/AIES31BASIC01.zip
A9: AIES31BASIC02 | B9: AIESBASIC2023 | C9: AIESBASICTIMESERIES | D9: http://api.census.gov/data/2023/aiesbasic.html | E9: http://api.census.gov/data/timeseries/aiesbasic.html | F9: https://data.census.gov/table/AIESBASIC2023.AIES31BASIC02?q=AIES31BASIC02 | G9: https://data.census.gov/table/AIESBASICTIMESERIES.AIES31BASIC02?q=AIES31BASIC02 | H9: https://www2.census.gov/programs-surveys/aies/data/2023/AIES31BASIC02.zip
A10: AIES31BASIC03 | B10: AIESBASIC2023 | C10: AIESBASICTIMESERIES | D10: http://api.census.gov/data/2023/aiesbasic.html | E10: http://api.census.gov/data/timeseries/aiesbasic.html | F10: https://data.census.gov/table/AIESBASIC2023.AIES31BASIC03?q=AIES31BASIC03 | G10: https://data.census.gov/table/AIESBASICTIMESERIES.AIES31BASIC03?q=AIES31BASIC03 | H10: https://www2.census.gov/programs-surveys/aies/data/2023/AIES31BASIC03.zip
A11: AIES31INV | B11: AIESMISCSECTOR2023 | C11: AIESMISCSECTORTIMESERIES | D11: http://api.census.gov/data/2023/aiesmiscsector.html | E11: http://api.census.gov/data/timeseries/aiesmiscsector.html | F11: https://data.census.gov/table/AIESMISCSECTOR2023.AIES31INV?q=AIES31INV | G11: https://data.census.gov/table/AIESMISCSECTORTIMESERIES.AIES31INV?q=AIES31INV | H11: https://www2.census.gov/programs-surveys/aies/data/2023/AIES31INV.zip
A12: AIES42AGBR | B12: AIESMISCSECTOR2023 | C12: AIESMISCSECTORTIMESERIES | D12: http://api.census.gov/data/2023/aiesmiscsector.html | E12: http://api.census.gov/data/timeseries/aiesmiscsector.html | F12: https://data.census.gov/table/AIESMISCSECTOR2023.AIES42AGBR?q=AIES42AGBR | G12: https://data.census.gov/table/AIESMISCSECTORTIMESERIES.AIES42AGBR?q=AIES42AGBR | H12: https://www2.census.gov/programs-surveys/aies/data/2023/AIES42AGBR.zip
... A27: AIES62TYPEPAYER | B27: AIESMISCSECTOR2023 | C27: AIESMISCSECTORTIMESERIES | D27: http://api.census.gov/data/2023/aiesmiscsector.html | E27: http://api.census.gov/data/timeseries/aiesmiscsector.html | F27: https://data.census.gov/table/AIESMISCSECTOR2023.AIES62TYPEPAYER?q=AIES62TYPEPAYER | G27: https://data.census.gov/table/AIESMISCSECTORTIMESERIES.AIES62TYPEPAYER?q=AIES62TYPEPAYER | H27: https://www2.census.gov/programs-surveys/aies/data/2023/AIES62TYPEPAYER.zip

Sheet 2024 Links
A1: TABLE ID | B1: API DATASET | C1: API LINK | D1: data.census.gov LINK | E1: FTP LINK
A2: AIES00BASIC | B2: AIESBASIC2024 | C2: http://api.census.gov/data/2024/aiesbasic.html | D2: https://data.census.gov/table/AIESBASIC2024.AIES00BASIC?q=AIES00BASIC | E2: https://www2.census.gov/programs-surveys/aies/data/2024/AIES00BASIC.zip
A3: AIES00ECOM | B3: AIESECOM2024 | C3: http://api.census.gov/data/2024/aiesecom.html | D3: https://data.census.gov/table/AIESECOM2024.AIES00ECOM?q=AIES00ECOM | E3: https://www2.census.gov/programs-surveys/aies/data/2024/AIES00ECOM.zip
A4: AIES00EXP02 | B4: AIESEXP022024 | C4: http://api.census.gov/data/2024/aiesexp02.html | D4: https://data.census.gov/table/AIESEXP022024.AIES00EXP02?q=AIES00EXP02 | E4: https://www2.census.gov/programs-surveys/aies/data/2024/AIES00EXP02.zip
A5: AIES00INV | B5: AIESINV2024 | C5: http://api.census.gov/data/2024/aiesinv.html | D5: https://data.census.gov/table/AIESINV2024.AIES00INV?q=AIES00INV | E5: https://www2.census.gov/programs-surveys/aies/data/2024/AIES00INV.zip
A6: AIES22CLASS | B6: AIESMISCSECTOR2024 | C6: http://api.census.gov/data/2024/aiesmiscsector.html | D6: https://data.census.gov/table/AIESMISCSECTOR2024.AIES22CLASS?q=AIES22CLASS | E6: https://www2.census.gov/programs-surveys/aies/data/2024/AIES22CLASS.zip
A7: AIES31BASIC01 | B7: AIESBASIC2024 | C7: http://api.census.gov/data/2024/aiesbasic.html | D7: https://data.census.gov/table/AIESBASIC2024.AIES31BASIC01?q=AIES31BASIC01 | E7: https://www2.census.gov/programs-surveys/aies/data/2024/AIES31BASIC01.zip
A8: AIES31BASIC02 | B8: AIESBASIC2024 | C8: http://api.census.gov/data/2024/aiesbasic.html | D8: https://data.census.gov/table/AIESBASIC2024.AIES31BASIC02?q=AIES31BASIC02 | E8: https://www2.census.gov/programs-surveys/aies/data/2024/AIES31BASIC02.zip
A9: AIES31BASIC03 | B9: AIESBASIC2024 | C9: http://api.census.gov/data/2024/aiesbasic.html | D9: https://data.census.gov/table/AIESBASIC2024.AIES31BASIC03?q=AIES31BASIC03 | E9: https://www2.census.gov/programs-surveys/aies/data/2024/AIES31BASIC03.zip
A10: AIES31INV | B10: AIESMISCSECTOR2024 | C10: http://api.census.gov/data/2024/aiesmiscsector.html | D10: https://data.census.gov/table/AIESMISCSECTOR2024.AIES31INV?q=AIES31INV | E10: https://www2.census.gov/programs-surveys/aies/data/2024/AIES31INV.zip
A11: AIES42AGBR | B11: AIESMISCSECTOR2024 | C11: http://api.census.gov/data/2024/aiesmiscsector.html | D11: https://data.census.gov/table/AIESMISCSECTOR2024.AIES42AGBR?q=AIES42AGBR | E11: https://www2.census.gov/programs-surveys/aies/data/2024/AIES42AGBR.zip
A12: AIES42BASIC | B12: AIESMISCSECTOR2024 | C12: http://api.census.gov/data/2024/aiesmiscsector.html | D12: https://data.census.gov/table/AIESMISCSECTOR2024.AIES42BASIC?q=AIES42BASIC | E12: https://www2.census.gov/programs-surveys/aies/data/2024/AIES42BASIC.zip
... A26: AIES62TYPEPAYER | B26: AIESMISCSECTOR2024 | C26: http://api.census.gov/data/2024/aiesmiscsector.html | D26: https://data.census.gov/table/AIESMISCSECTOR2024.AIES62TYPEPAYER?q=AIES62TYPEPAYER | E26: https://www2.census.gov/programs-surveys/aies/data/2024/AIES62TYPEPAYER.zip

Sheet Later Releases
A1: TABLE ID | B1: API DATASET | C1: API LINK | D1: data.census.gov LINK | E1: FTP LINK
A2: AIES00NONEMP | B2: AIESNONEMP2024 | C2: http://api.census.gov/data/2024/aiesnonemp.html | D2: =CONCATENATE('lookup stuff'!$A$1,'Later Releases'!B2,'lookup stuff'!$A$3,'Later Releases'!A2,'lookup stuff'!$A$2,'Later Releases'!A2) -> https://data.census.gov/table/AIESNONEMP2024.AIES00NONEMP?q=AIES00NONEMP | E2: =CONCATENATE('lookup stuff'!$A$6,'Later Releases'!A2,'lookup stuff'!$A$5) -> https://www2.census.gov/programs-surveys/aies/data/2024/AIES00NONEMP.zip
A3: AIES22TIMESERIES | B3: AIESTIMESERIES | C3: http://api.census.gov/timeseries/aies | D3: NA | E3: =CONCATENATE('lookup stuff'!$A$6,'Later Releases'!A3,'lookup stuff'!$A$5) -> https://www2.census.gov/programs-surveys/aies/data/2024/AIES22TIMESERIES.zip
A4: AIES31TIMESERIES | B4: AIESTIMESERIES | C4: http://api.census.gov/timeseries/aies | D4: NA | E4: =CONCATENATE('lookup stuff'!$A$6,'Later Releases'!A4,'lookup stuff'!$A$5) -> https://www2.census.gov/programs-surveys/aies/data/2024/AIES31TIMESERIES.zip
A5: AIES42TIMESERIES | B5: AIESTIMESERIES | C5: http://api.census.gov/timeseries/aies | D5: NA | E5: =CONCATENATE('lookup stuff'!$A$6,'Later Releases'!A5,'lookup stuff'!$A$5) -> https://www2.census.gov/programs-surveys/aies/data/2024/AIES42TIMESERIES.zip
A6: AIES44TIMESERIES | B6: AIESTIMESERIES | C6: http://api.census.gov/timeseries/aies | D6: NA | E6: =CONCATENATE('lookup stuff'!$A$6,'Later Releases'!A6,'lookup stuff'!$A$5) -> https://www2.census.gov/programs-surveys/aies/data/2024/AIES44TIMESERIES.zip
A7: AIES48TIMESERIES | B7: AIESTIMESERIES | C7: http://api.census.gov/timeseries/aies | D7: NA | E7: =CONCATENATE('lookup stuff'!$A$6,'Later Releases'!A7,'lookup stuff'!$A$5) -> https://www2.census.gov/programs-surveys/aies/data/2024/AIES48TIMESERIES.zip
A8: AIES51TIMESERIES | B8: AIESTIMESERIES | C8: http://api.census.gov/timeseries/aies | D8: NA | E8: =CONCATENATE('lookup stuff'!$A$6,'Later Releases'!A8,'lookup stuff'!$A$5) -> https://www2.census.gov/programs-surveys/aies/data/2024/AIES51TIMESERIES.zip
A9: AIES52TIMESERIES | B9: AIESTIMESERIES | C9: http://api.census.gov/timeseries/aies | D9: NA | E9: =CONCATENATE('lookup stuff'!$A$6,'Later Releases'!A9,'lookup stuff'!$A$5) -> https://www2.census.gov/programs-surveys/aies/data/2024/AIES52TIMESERIES.zip
A10: AIES53TIMESERIES | B10: AIESTIMESERIES | C10: http://api.census.gov/timeseries/aies | D10: NA | E10: =CONCATENATE('lookup stuff'!$A$6,'Later Releases'!A10,'lookup stuff'!$A$5) -> https://www2.census.gov/programs-surveys/aies/data/2024/AIES53TIMESERIES.zip
A11: AIES54TIMESERIES | B11: AIESTIMESERIES | C11: http://api.census.gov/timeseries/aies | D11: NA | E11: =CONCATENATE('lookup stuff'!$A$6,'Later Releases'!A11,'lookup stuff'!$A$5) -> https://www2.census.gov/programs-surveys/aies/data/2024/AIES54TIMESERIES.zip
A12: AIES56TIMESERIES | B12: AIESTIMESERIES | C12: http://api.census.gov/timeseries/aies | D12: NA | E12: =CONCATENATE('lookup stuff'!$A$6,'Later Releases'!A12,'lookup stuff'!$A$5) -> https://www2.census.gov/programs-surveys/aies/data/2024/AIES56TIMESERIES.zip
A13: AIES61TIMESERIES | B13: AIESTIMESERIES | C13: http://api.census.gov/timeseries/aies | D13: NA | E13: =CONCATENATE('lookup stuff'!$A$6,'Later Releases'!A13,'lookup stuff'!$A$5) -> https://www2.census.gov/programs-surveys/aies/data/2024/AIES61TIMESERIES.zip
A14: AIES62TIMESERIES | B14: AIESTIMESERIES | C14: http://api.census.gov/timeseries/aies | D14: NA | E14: =CONCATENATE('lookup stuff'!$A$6,'Later Releases'!A14,'lookup stuff'!$A$5) -> https://www2.census.gov/programs-surveys/aies/data/2024/AIES62TIMESERIES.zip
... A17: AIES81TIMESERIES | B17: AIESTIMESERIES | C17: http://api.census.gov/timeseries/aies | D17: NA | E17: =CONCATENATE('lookup stuff'!$A$6,'Later Releases'!A17,'lookup stuff'!$A$5) -> https://www2.census.gov/programs-surveys/aies/data/2024/AIES81TIMESERIES.zip

Sheet lookup stuff
A1: https://data.census.gov/table/
A2: ?q=
A3: . | N3: =CONCATENATE('lookup stuff'!$A$1,'2023'!L3,'lookup stuff'!$A$3,'2023'!K3,'lookup stuff'!$A$2,'2023'!K3) -> https://data.census.gov/table/.?q=
A4: https://www2.census.gov/programs-surveys/aies/data/2023/ | N4: https://data.census.gov/table/AIESMISCSECTOR2023.AIES22CLASS?q=AIES22CLASS
A5: .zip
A6: https://www2.census.gov/programs-surveys/aies/data/2024/
