Workbook

Sheet Sheet1
A1: Old Table ID | B1: New Table ID | C1: Old API Dataset | D1: New API DATASET | E1: OLD API Link | F1: NEW API LINK | G1: Old Table Link | H1: New Table Link
A2: CG00ORG01 | B2: GS00ORG01 | C2: GOVSTIMESERIES | D2: GOVSORGTIMESERIES | E2: https://api.census.gov/data/timeseries/govs.html | F2: http://api.census.gov/data/timeseries/govsorg.html | G2: =CONCATENATE(Sheet2!$A$1,Sheet1!C2,Sheet2!$A$3,Sheet1!A2,Sheet2!$A$2,Sheet1!A2) -> https://data.census.gov/table/GOVSTIMESERIES.CG00ORG01?q=CG00ORG01 | H2: =CONCATENATE(Sheet2!$A$1,Sheet1!D2,Sheet2!$A$3,Sheet1!B2,Sheet2!$A$2,Sheet1!B2) -> https://data.census.gov/table/GOVSORGTIMESERIES.GS00ORG01?q=GS00ORG01
A3: CG00ORG02 | B3: GS00ORG02 | C3: GOVSTIMESERIES | D3: GOVSORGTIMESERIES | E3: https://api.census.gov/data/timeseries/govs.html | F3: http://api.census.gov/data/timeseries/govsorg.html | G3: =CONCATENATE(Sheet2!$A$1,Sheet1!C3,Sheet2!$A$3,Sheet1!A3,Sheet2!$A$2,Sheet1!A3) -> https://data.census.gov/table/GOVSTIMESERIES.CG00ORG02?q=CG00ORG02 | H3: =CONCATENATE(Sheet2!$A$1,Sheet1!D3,Sheet2!$A$3,Sheet1!B3,Sheet2!$A$2,Sheet1!B3) -> https://data.census.gov/table/GOVSORGTIMESERIES.GS00ORG02?q=GS00ORG02
A4: CG00ORG03 | B4: GS00ORG03 | C4: GOVSTIMESERIES | D4: GOVSORGTIMESERIES | E4: https://api.census.gov/data/timeseries/govs.html | F4: http://api.census.gov/data/timeseries/govsorg.html | G4: =CONCATENATE(Sheet2!$A$1,Sheet1!C4,Sheet2!$A$3,Sheet1!A4,Sheet2!$A$2,Sheet1!A4) -> https://data.census.gov/table/GOVSTIMESERIES.CG00ORG03?q=CG00ORG03 | H4: =CONCATENATE(Sheet2!$A$1,Sheet1!D4,Sheet2!$A$3,Sheet1!B4,Sheet2!$A$2,Sheet1!B4) -> https://data.census.gov/table/GOVSORGTIMESERIES.GS00ORG03?q=GS00ORG03
A5: CG00ORG04 | B5: GS00ORG04 | C5: GOVSTIMESERIES | D5: GOVSORGTIMESERIES | E5: https://api.census.gov/data/timeseries/govs.html | F5: http://api.census.gov/data/timeseries/govsorg.html | G5: =CONCATENATE(Sheet2!$A$1,Sheet1!C5,Sheet2!$A$3,Sheet1!A5,Sheet2!$A$2,Sheet1!A5) -> https://data.census.gov/table/GOVSTIMESERIES.CG00ORG04?q=CG00ORG04 | H5: =CONCATENATE(Sheet2!$A$1,Sheet1!D5,Sheet2!$A$3,Sheet1!B5,Sheet2!$A$2,Sheet1!B5) -> https://data.census.gov/table/GOVSORGTIMESERIES.GS00ORG04?q=GS00ORG04
A6: CG00ORG05 | B6: GS00ORG05 | C6: GOVSTIMESERIES | D6: GOVSORGTIMESERIES | E6: https://api.census.gov/data/timeseries/govs.html | F6: http://api.census.gov/data/timeseries/govsorg.html | G6: =CONCATENATE(Sheet2!$A$1,Sheet1!C6,Sheet2!$A$3,Sheet1!A6,Sheet2!$A$2,Sheet1!A6) -> https://data.census.gov/table/GOVSTIMESERIES.CG00ORG05?q=CG00ORG05 | H6: =CONCATENATE(Sheet2!$A$1,Sheet1!D6,Sheet2!$A$3,Sheet1!B6,Sheet2!$A$2,Sheet1!B6) -> https://data.census.gov/table/GOVSORGTIMESERIES.GS00ORG05?q=GS00ORG05
A7: CG00ORG06 | B7: GS00ORG06 | C7: GOVSTIMESERIES | D7: GOVSORGTIMESERIES | E7: https://api.census.gov/data/timeseries/govs.html | F7: http://api.census.gov/data/timeseries/govsorg.html | G7: =CONCATENATE(Sheet2!$A$1,Sheet1!C7,Sheet2!$A$3,Sheet1!A7,Sheet2!$A$2,Sheet1!A7) -> https://data.census.gov/table/GOVSTIMESERIES.CG00ORG06?q=CG00ORG06 | H7: =CONCATENATE(Sheet2!$A$1,Sheet1!D7,Sheet2!$A$3,Sheet1!B7,Sheet2!$A$2,Sheet1!B7) -> https://data.census.gov/table/GOVSORGTIMESERIES.GS00ORG06?q=GS00ORG06
A8: CG00ORG07 | B8: GS00ORG07 | C8: GOVSTIMESERIES | D8: GOVSORGTIMESERIES | E8: https://api.census.gov/data/timeseries/govs.html | F8: http://api.census.gov/data/timeseries/govsorg.html | G8: =CONCATENATE(Sheet2!$A$1,Sheet1!C8,Sheet2!$A$3,Sheet1!A8,Sheet2!$A$2,Sheet1!A8) -> https://data.census.gov/table/GOVSTIMESERIES.CG00ORG07?q=CG00ORG07 | H8: =CONCATENATE(Sheet2!$A$1,Sheet1!D8,Sheet2!$A$3,Sheet1!B8,Sheet2!$A$2,Sheet1!B8) -> https://data.census.gov/table/GOVSORGTIMESERIES.GS00ORG07?q=GS00ORG07
A9: CG00ORG08 | B9: GS00ORG08 | C9: GOVSTIMESERIES | D9: GOVSORGTIMESERIES | E9: https://api.census.gov/data/timeseries/govs.html | F9: http://api.census.gov/data/timeseries/govsorg.html | G9: =CONCATENATE(Sheet2!$A$1,Sheet1!C9,Sheet2!$A$3,Sheet1!A9,Sheet2!$A$2,Sheet1!A9) -> https://data.census.gov/table/GOVSTIMESERIES.CG00ORG08?q=CG00ORG08 | H9: =CONCATENATE(Sheet2!$A$1,Sheet1!D9,Sheet2!$A$3,Sheet1!B9,Sheet2!$A$2,Sheet1!B9) -> https://data.census.gov/table/GOVSORGTIMESERIES.GS00ORG08?q=GS00ORG08
A10: CG00ORG09 | B10: GS00ORG09 | C10: GOVSTIMESERIES | D10: GOVSORGTIMESERIES | E10: https://api.census.gov/data/timeseries/govs.html | F10: http://api.census.gov/data/timeseries/govsorg.html | G10: =CONCATENATE(Sheet2!$A$1,Sheet1!C10,Sheet2!$A$3,Sheet1!A10,Sheet2!$A$2,Sheet1!A10) -> https://data.census.gov/table/GOVSTIMESERIES.CG00ORG09?q=CG00ORG09 | H10: =CONCATENATE(Sheet2!$A$1,Sheet1!D10,Sheet2!$A$3,Sheet1!B10,Sheet2!$A$2,Sheet1!B10) -> https://data.census.gov/table/GOVSORGTIMESERIES.GS00ORG09?q=GS00ORG09
A11: CG00ORG10 | B11: GS00ORG10 | C11: GOVSTIMESERIES | D11: GOVSORGTIMESERIES | E11: https://api.census.gov/data/timeseries/govs.html | F11: http://api.census.gov/data/timeseries/govsorg.html | G11: =CONCATENATE(Sheet2!$A$1,Sheet1!C11,Sheet2!$A$3,Sheet1!A11,Sheet2!$A$2,Sheet1!A11) -> https://data.census.gov/table/GOVSTIMESERIES.CG00ORG10?q=CG00ORG10 | H11: =CONCATENATE(Sheet2!$A$1,Sheet1!D11,Sheet2!$A$3,Sheet1!B11,Sheet2!$A$2,Sheet1!B11) -> https://data.census.gov/table/GOVSORGTIMESERIES.GS00ORG10?q=GS00ORG10
A12: CG00ORG11 | B12: GS00ORG11 | C12: GOVSTIMESERIES | D12: GOVSORGTIMESERIES | E12: https://api.census.gov/data/timeseries/govs.html | F12: http://api.census.gov/data/timeseries/govsorg.html | G12: =CONCATENATE(Sheet2!$A$1,Sheet1!C12,Sheet2!$A$3,Sheet1!A12,Sheet2!$A$2,Sheet1!A12) -> https://data.census.gov/table/GOVSTIMESERIES.CG00ORG11?q=CG00ORG11 | H12: =CONCATENATE(Sheet2!$A$1,Sheet1!D12,Sheet2!$A$3,Sheet1!B12,Sheet2!$A$2,Sheet1!B12) -> https://data.census.gov/table/GOVSORGTIMESERIES.GS00ORG11?q=GS00ORG11
A13: GS00EP01 | B13: GS00EMP01 | C13: GOVSTIMESERIES | D13: GOVSEMPTIMESERIES | E13: https://api.census.gov/data/timeseries/govs.html | F13: http://api.census.gov/data/timeseries/govsemp.html | G13: =CONCATENATE(Sheet2!$A$1,Sheet1!C13,Sheet2!$A$3,Sheet1!A13,Sheet2!$A$2,Sheet1!A13) -> https://data.census.gov/table/GOVSTIMESERIES.GS00EP01?q=GS00EP01 | H13: =CONCATENATE(Sheet2!$A$1,Sheet1!D13,Sheet2!$A$3,Sheet1!B13,Sheet2!$A$2,Sheet1!B13) -> https://data.census.gov/table/GOVSEMPTIMESERIES.GS00EMP01?q=GS00EMP01
... A17: GS00PP01 | B17: GS00PENSION | C17: GOVSTIMESERIES | D17: GOVSPENSIONTIMESERIES | E17: https://api.census.gov/data/timeseries/govs.html | F17: http://api.census.gov/data/timeseries/govspension.html | G17: =CONCATENATE(Sheet2!$A$1,Sheet1!C17,Sheet2!$A$3,Sheet1!A17,Sheet2!$A$2,Sheet1!A17) -> https://data.census.gov/table/GOVSTIMESERIES.GS00PP01?q=GS00PP01 | H17: =CONCATENATE(Sheet2!$A$1,Sheet1!D17,Sheet2!$A$3,Sheet1!B17,Sheet2!$A$2,Sheet1!B17) -> https://data.census.gov/table/GOVSPENSIONTIMESERIES.GS00PENSION?q=GS00PENSION
A18: GS00PP02 | B18: N/A | C18: GOVSTIMESERIES | D18: N/A | E18: https://api.census.gov/data/timeseries/govs.html | F18: N/A | G18: =CONCATENATE(Sheet2!$A$1,Sheet1!C18,Sheet2!$A$3,Sheet1!A18,Sheet2!$A$2,Sheet1!A18) -> https://data.census.gov/table/GOVSTIMESERIES.GS00PP02?q=GS00PP02 | H18: N/A
A19: GS00SS01 | B19: GS00SCHFIN01 | C19: GOVSTIMESERIES | D19: GOVSSCHFINTIMESERIES | E19: https://api.census.gov/data/timeseries/govs.html | F19: http://api.census.gov/data/timeseries/govsschfin.html | G19: =CONCATENATE(Sheet2!$A$1,Sheet1!C19,Sheet2!$A$3,Sheet1!A19,Sheet2!$A$2,Sheet1!A19) -> https://data.census.gov/table/GOVSTIMESERIES.GS00SS01?q=GS00SS01 | H19: =CONCATENATE(Sheet2!$A$1,Sheet1!D19,Sheet2!$A$3,Sheet1!B19,Sheet2!$A$2,Sheet1!B19) -> https://data.census.gov/table/GOVSSCHFINTIMESERIES.GS00SCHFIN01?q=GS00SCHFIN01
A20: GS00SS02 | B20: GS00SCHFIN02 | C20: GOVSTIMESERIES | D20: GOVSSCHFINTIMESERIES | E20: https://api.census.gov/data/timeseries/govs.html | F20: http://api.census.gov/data/timeseries/govsschfin.html | G20: =CONCATENATE(Sheet2!$A$1,Sheet1!C20,Sheet2!$A$3,Sheet1!A20,Sheet2!$A$2,Sheet1!A20) -> https://data.census.gov/table/GOVSTIMESERIES.GS00SS02?q=GS00SS02 | H20: =CONCATENATE(Sheet2!$A$1,Sheet1!D20,Sheet2!$A$3,Sheet1!B20,Sheet2!$A$2,Sheet1!B20) -> https://data.census.gov/table/GOVSSCHFINTIMESERIES.GS00SCHFIN02?q=GS00SCHFIN02
A21: GS00SS03 | B21: GS00SCHFIN03 | C21: GOVSTIMESERIES | D21: GOVSSCHFINTIMESERIES | E21: https://api.census.gov/data/timeseries/govs.html | F21: http://api.census.gov/data/timeseries/govsschfin.html | G21: =CONCATENATE(Sheet2!$A$1,Sheet1!C21,Sheet2!$A$3,Sheet1!A21,Sheet2!$A$2,Sheet1!A21) -> https://data.census.gov/table/GOVSTIMESERIES.GS00SS03?q=GS00SS03 | H21: =CONCATENATE(Sheet2!$A$1,Sheet1!D21,Sheet2!$A$3,Sheet1!B21,Sheet2!$A$2,Sheet1!B21) -> https://data.census.gov/table/GOVSSCHFINTIMESERIES.GS00SCHFIN03?q=GS00SCHFIN03
A22: GS00SS04 | B22: GS00SCHFIN04 | C22: GOVSTIMESERIES | D22: GOVSSCHFINTIMESERIES | E22: https://api.census.gov/data/timeseries/govs.html | F22: http://api.census.gov/data/timeseries/govsschfin.html | G22: =CONCATENATE(Sheet2!$A$1,Sheet1!C22,Sheet2!$A$3,Sheet1!A22,Sheet2!$A$2,Sheet1!A22) -> https://data.census.gov/table/GOVSTIMESERIES.GS00SS04?q=GS00SS04 | H22: =CONCATENATE(Sheet2!$A$1,Sheet1!D22,Sheet2!$A$3,Sheet1!B22,Sheet2!$A$2,Sheet1!B22) -> https://data.census.gov/table/GOVSSCHFINTIMESERIES.GS00SCHFIN04?q=GS00SCHFIN04
A23: GS00SS05 | B23: GS00SCHFIN05 | C23: GOVSTIMESERIES | D23: GOVSSCHFINTIMESERIES | E23: https://api.census.gov/data/timeseries/govs.html | F23: http://api.census.gov/data/timeseries/govsschfin.html | G23: =CONCATENATE(Sheet2!$A$1,Sheet1!C23,Sheet2!$A$3,Sheet1!A23,Sheet2!$A$2,Sheet1!A23) -> https://data.census.gov/table/GOVSTIMESERIES.GS00SS05?q=GS00SS05 | H23: =CONCATENATE(Sheet2!$A$1,Sheet1!D23,Sheet2!$A$3,Sheet1!B23,Sheet2!$A$2,Sheet1!B23) -> https://data.census.gov/table/GOVSSCHFINTIMESERIES.GS00SCHFIN05?q=GS00SCHFIN05
A24: GS00SS06 | B24: GS00SCHFIN06 | C24: GOVSTIMESERIES | D24: GOVSSCHFINTIMESERIES | E24: https://api.census.gov/data/timeseries/govs.html | F24: http://api.census.gov/data/timeseries/govsschfin.html | G24: =CONCATENATE(Sheet2!$A$1,Sheet1!C24,Sheet2!$A$3,Sheet1!A24,Sheet2!$A$2,Sheet1!A24) -> https://data.census.gov/table/GOVSTIMESERIES.GS00SS06?q=GS00SS06 | H24: =CONCATENATE(Sheet2!$A$1,Sheet1!D24,Sheet2!$A$3,Sheet1!B24,Sheet2!$A$2,Sheet1!B24) -> https://data.census.gov/table/GOVSSCHFINTIMESERIES.GS00SCHFIN06?q=GS00SCHFIN06
A25: GS00SS07 | B25: GS00SCHFIN07 | C25: GOVSTIMESERIES | D25: GOVSSCHFINTIMESERIES | E25: https://api.census.gov/data/timeseries/govs.html | F25: http://api.census.gov/data/timeseries/govsschfin.html | G25: =CONCATENATE(Sheet2!$A$1,Sheet1!C25,Sheet2!$A$3,Sheet1!A25,Sheet2!$A$2,Sheet1!A25) -> https://data.census.gov/table/GOVSTIMESERIES.GS00SS07?q=GS00SS07 | H25: =CONCATENATE(Sheet2!$A$1,Sheet1!D25,Sheet2!$A$3,Sheet1!B25,Sheet2!$A$2,Sheet1!B25) -> https://data.census.gov/table/GOVSSCHFINTIMESERIES.GS00SCHFIN07?q=GS00SCHFIN07
A26: GS00SS08 | B26: GS00SCHFIN08 | C26: GOVSTIMESERIES | D26: GOVSSCHFINTIMESERIES | E26: https://api.census.gov/data/timeseries/govs.html | F26: http://api.census.gov/data/timeseries/govsschfin.html | G26: =CONCATENATE(Sheet2!$A$1,Sheet1!C26,Sheet2!$A$3,Sheet1!A26,Sheet2!$A$2,Sheet1!A26) -> https://data.census.gov/table/GOVSTIMESERIES.GS00SS08?q=GS00SS08 | H26: =CONCATENATE(Sheet2!$A$1,Sheet1!D26,Sheet2!$A$3,Sheet1!B26,Sheet2!$A$2,Sheet1!B26) -> https://data.census.gov/table/GOVSSCHFINTIMESERIES.GS00SCHFIN08?q=GS00SCHFIN08
A27: GS00SS09 | B27: GS00SCHFIN09 | C27: GOVSTIMESERIES | D27: GOVSSCHFINTIMESERIES | E27: https://api.census.gov/data/timeseries/govs.html | F27: http://api.census.gov/data/timeseries/govsschfin.html | G27: =CONCATENATE(Sheet2!$A$1,Sheet1!C27,Sheet2!$A$3,Sheet1!A27,Sheet2!$A$2,Sheet1!A27) -> https://data.census.gov/table/GOVSTIMESERIES.GS00SS09?q=GS00SS09 | H27: =CONCATENATE(Sheet2!$A$1,Sheet1!D27,Sheet2!$A$3,Sheet1!B27,Sheet2!$A$2,Sheet1!B27) -> https://data.census.gov/table/GOVSSCHFINTIMESERIES.GS00SCHFIN09?q=GS00SCHFIN09
A28: GS00SS10A | B28: GS00SCHFIN10A | C28: GOVSTIMESERIES | D28: GOVSSCHFINTIMESERIES | E28: https://api.census.gov/data/timeseries/govs.html | F28: http://api.census.gov/data/timeseries/govsschfin.html | G28: =CONCATENATE(Sheet2!$A$1,Sheet1!C28,Sheet2!$A$3,Sheet1!A28,Sheet2!$A$2,Sheet1!A28) -> https://data.census.gov/table/GOVSTIMESERIES.GS00SS10A?q=GS00SS10A | H28: =CONCATENATE(Sheet2!$A$1,Sheet1!D28,Sheet2!$A$3,Sheet1!B28,Sheet2!$A$2,Sheet1!B28) -> https://data.census.gov/table/GOVSSCHFINTIMESERIES.GS00SCHFIN10A?q=GS00SCHFIN10A
A29: GS00SS10B | B29: GS00SCHFIN10B | C29: GOVSTIMESERIES | D29: GOVSSCHFINTIMESERIES | E29: https://api.census.gov/data/timeseries/govs.html | F29: http://api.census.gov/data/timeseries/govsschfin.html | G29: =CONCATENATE(Sheet2!$A$1,Sheet1!C29,Sheet2!$A$3,Sheet1!A29,Sheet2!$A$2,Sheet1!A29) -> https://data.census.gov/table/GOVSTIMESERIES.GS00SS10B?q=GS00SS10B | H29: =CONCATENATE(Sheet2!$A$1,Sheet1!D29,Sheet2!$A$3,Sheet1!B29,Sheet2!$A$2,Sheet1!B29) -> https://data.census.gov/table/GOVSSCHFINTIMESERIES.GS00SCHFIN10B?q=GS00SCHFIN10B
A30: GS00SS10C | B30: GS00SCHFIN10C | C30: GOVSTIMESERIES | D30: GOVSSCHFINTIMESERIES | E30: https://api.census.gov/data/timeseries/govs.html | F30: http://api.census.gov/data/timeseries/govsschfin.html | G30: =CONCATENATE(Sheet2!$A$1,Sheet1!C30,Sheet2!$A$3,Sheet1!A30,Sheet2!$A$2,Sheet1!A30) -> https://data.census.gov/table/GOVSTIMESERIES.GS00SS10C?q=GS00SS10C | H30: =CONCATENATE(Sheet2!$A$1,Sheet1!D30,Sheet2!$A$3,Sheet1!B30,Sheet2!$A$2,Sheet1!B30) -> https://data.census.gov/table/GOVSSCHFINTIMESERIES.GS00SCHFIN10C?q=GS00SCHFIN10C
... A41: GS00SG02 | B41: GS00STATEFIN02 | C41: GOVSTIMESERIES | D41: GOVSSTATEFINTIMESERIES | E41: https://api.census.gov/data/timeseries/govs.html | F41: http://api.census.gov/data/timeseries/govsstatefin.html | G41: =CONCATENATE(Sheet2!$A$1,Sheet1!C41,Sheet2!$A$3,Sheet1!A41,Sheet2!$A$2,Sheet1!A41) -> https://data.census.gov/table/GOVSTIMESERIES.GS00SG02?q=GS00SG02 | H41: =CONCATENATE(Sheet2!$A$1,Sheet1!D41,Sheet2!$A$3,Sheet1!B41,Sheet2!$A$2,Sheet1!B41) -> https://data.census.gov/table/GOVSSTATEFINTIMESERIES.GS00STATEFIN02?q=GS00STATEFIN02
A42: N/A | B42: GS00STATEFIN03 | C42: N/A | D42: GOVSSTATEFINTIMESERIES | E42: N/A | F42: http://api.census.gov/data/timeseries/govsstatefin.html | H42: =CONCATENATE(Sheet2!$A$1,Sheet1!D42,Sheet2!$A$3,Sheet1!B42,Sheet2!$A$2,Sheet1!B42) -> https://data.census.gov/table/GOVSSTATEFINTIMESERIES.GS00STATEFIN03?q=GS00STATEFIN03
A43: GS00TC01 | B43: GS00STATETAX | C43: GOVSTIMESERIES | D43: GOVSSTATETAXTIMESERIES | E43: https://api.census.gov/data/timeseries/govs.html | F43: http://api.census.gov/data/timeseries/govsstatetax.html | G43: =CONCATENATE(Sheet2!$A$1,Sheet1!C43,Sheet2!$A$3,Sheet1!A43,Sheet2!$A$2,Sheet1!A43) -> https://data.census.gov/table/GOVSTIMESERIES.GS00TC01?q=GS00TC01 | H43: =CONCATENATE(Sheet2!$A$1,Sheet1!D43,Sheet2!$A$3,Sheet1!B43,Sheet2!$A$2,Sheet1!B43) -> https://data.census.gov/table/GOVSSTATETAXTIMESERIES.GS00STATETAX?q=GS00STATETAX
A44: GS00TC02 | B44: NA | C44: GOVSTIMESERIES | D44: NA | E44: https://api.census.gov/data/timeseries/govs.html | F44: N/A | G44: =CONCATENATE(Sheet2!$A$1,Sheet1!C44,Sheet2!$A$3,Sheet1!A44,Sheet2!$A$2,Sheet1!A44) -> https://data.census.gov/table/GOVSTIMESERIES.GS00TC02?q=GS00TC02 | H44: N/A

Sheet Links
A1: Old Table ID | B1: New Table ID | C1: Old API Dataset | D1: New API DATASET | E1: OLD API Link | F1: NEW API LINK | G1: Old Table Link | H1: New Table Link
A2: CG00ORG01 | B2: GS00ORG01 | C2: GOVSTIMESERIES | D2: GOVSORGTIMESERIES | E2: https://api.census.gov/data/timeseries/govs.html | F2: http://api.census.gov/data/timeseries/govsorg.html | G2: https://data.census.gov/table/GOVSTIMESERIES.CG00ORG01?q=CG00ORG01 | H2: https://data.census.gov/table/GOVSORGTIMESERIES.GS00ORG01?q=GS00ORG01
A3: CG00ORG02 | B3: GS00ORG02 | C3: GOVSTIMESERIES | D3: GOVSORGTIMESERIES | E3: https://api.census.gov/data/timeseries/govs.html | F3: http://api.census.gov/data/timeseries/govsorg.html | G3: https://data.census.gov/table/GOVSTIMESERIES.CG00ORG02?q=CG00ORG02 | H3: https://data.census.gov/table/GOVSORGTIMESERIES.GS00ORG02?q=GS00ORG02
A4: CG00ORG03 | B4: GS00ORG03 | C4: GOVSTIMESERIES | D4: GOVSORGTIMESERIES | E4: https://api.census.gov/data/timeseries/govs.html | F4: http://api.census.gov/data/timeseries/govsorg.html | G4: https://data.census.gov/table/GOVSTIMESERIES.CG00ORG03?q=CG00ORG03 | H4: https://data.census.gov/table/GOVSORGTIMESERIES.GS00ORG03?q=GS00ORG03
A5: CG00ORG04 | B5: GS00ORG04 | C5: GOVSTIMESERIES | D5: GOVSORGTIMESERIES | E5: https://api.census.gov/data/timeseries/govs.html | F5: http://api.census.gov/data/timeseries/govsorg.html | G5: https://data.census.gov/table/GOVSTIMESERIES.CG00ORG04?q=CG00ORG04 | H5: https://data.census.gov/table/GOVSORGTIMESERIES.GS00ORG04?q=GS00ORG04
A6: CG00ORG05 | B6: GS00ORG05 | C6: GOVSTIMESERIES | D6: GOVSORGTIMESERIES | E6: https://api.census.gov/data/timeseries/govs.html | F6: http://api.census.gov/data/timeseries/govsorg.html | G6: https://data.census.gov/table/GOVSTIMESERIES.CG00ORG05?q=CG00ORG05 | H6: https://data.census.gov/table/GOVSORGTIMESERIES.GS00ORG05?q=GS00ORG05
A7: CG00ORG06 | B7: GS00ORG06 | C7: GOVSTIMESERIES | D7: GOVSORGTIMESERIES | E7: https://api.census.gov/data/timeseries/govs.html | F7: http://api.census.gov/data/timeseries/govsorg.html | G7: https://data.census.gov/table/GOVSTIMESERIES.CG00ORG06?q=CG00ORG06 | H7: https://data.census.gov/table/GOVSORGTIMESERIES.GS00ORG06?q=GS00ORG06
A8: CG00ORG07 | B8: GS00ORG07 | C8: GOVSTIMESERIES | D8: GOVSORGTIMESERIES | E8: https://api.census.gov/data/timeseries/govs.html | F8: http://api.census.gov/data/timeseries/govsorg.html | G8: https://data.census.gov/table/GOVSTIMESERIES.CG00ORG07?q=CG00ORG07 | H8: https://data.census.gov/table/GOVSORGTIMESERIES.GS00ORG07?q=GS00ORG07
A9: CG00ORG08 | B9: GS00ORG08 | C9: GOVSTIMESERIES | D9: GOVSORGTIMESERIES | E9: https://api.census.gov/data/timeseries/govs.html | F9: http://api.census.gov/data/timeseries/govsorg.html | G9: https://data.census.gov/table/GOVSTIMESERIES.CG00ORG08?q=CG00ORG08 | H9: https://data.census.gov/table/GOVSORGTIMESERIES.GS00ORG08?q=GS00ORG08
A10: CG00ORG09 | B10: GS00ORG09 | C10: GOVSTIMESERIES | D10: GOVSORGTIMESERIES | E10: https://api.census.gov/data/timeseries/govs.html | F10: http://api.census.gov/data/timeseries/govsorg.html | G10: https://data.census.gov/table/GOVSTIMESERIES.CG00ORG09?q=CG00ORG09 | H10: https://data.census.gov/table/GOVSORGTIMESERIES.GS00ORG09?q=GS00ORG09
A11: CG00ORG10 | B11: GS00ORG10 | C11: GOVSTIMESERIES | D11: GOVSORGTIMESERIES | E11: https://api.census.gov/data/timeseries/govs.html | F11: http://api.census.gov/data/timeseries/govsorg.html | G11: https://data.census.gov/table/GOVSTIMESERIES.CG00ORG10?q=CG00ORG10 | H11: https://data.census.gov/table/GOVSORGTIMESERIES.GS00ORG10?q=GS00ORG10
A12: CG00ORG11 | B12: GS00ORG11 | C12: GOVSTIMESERIES | D12: GOVSORGTIMESERIES | E12: https://api.census.gov/data/timeseries/govs.html | F12: http://api.census.gov/data/timeseries/govsorg.html | G12: https://data.census.gov/table/GOVSTIMESERIES.CG00ORG11?q=CG00ORG11 | H12: https://data.census.gov/table/GOVSORGTIMESERIES.GS00ORG11?q=GS00ORG11
... A41: GS00SG02 | B41: GS00STATEFIN02 | C41: GOVSTIMESERIES | D41: GOVSSTATEFINTIMESERIES | E41: https://api.census.gov/data/timeseries/govs.html | F41: http://api.census.gov/data/timeseries/govsstatefin.html | G41: https://data.census.gov/table/GOVSTIMESERIES.GS00SG02?q=GS00SG02 | H41: https://data.census.gov/table/GOVSSTATEFINTIMESERIES.GS00STATEFIN02?q=GS00STATEFIN02
A42: N/A | B42: GS00STATEFIN03 | C42: N/A | D42: GOVSSTATEFINTIMESERIES | E42: N/A | F42: http://api.census.gov/data/timeseries/govsstatefin.html | H42: https://data.census.gov/table/GOVSSTATEFINTIMESERIES.GS00STATEFIN03?q=GS00STATEFIN03
A43: GS00TC01 | B43: GS00STATETAX | C43: GOVSTIMESERIES | D43: GOVSSTATETAXTIMESERIES | E43: https://api.census.gov/data/timeseries/govs.html | F43: http://api.census.gov/data/timeseries/govsstatetax.html | G43: https://data.census.gov/table/GOVSTIMESERIES.GS00TC01?q=GS00TC01 | H43: https://data.census.gov/table/GOVSSTATETAXTIMESERIES.GS00STATETAX?q=GS00STATETAX
A44: GS00TC02 | B44: NA | C44: GOVSTIMESERIES | D44: NA | E44: https://api.census.gov/data/timeseries/govs.html | F44: N/A | G44: https://data.census.gov/table/GOVSTIMESERIES.GS00TC02?q=GS00TC02 | H44: N/A

Sheet Sheet2
A1: https://data.census.gov/table/
A2: ?q=
A3: .
