Workbook

Sheet mean outlays
C1: 2013 Mean Medicaid Outlays Per Unique Eligible by Risk Class and State
A2: State | C2: AGED | D2: BLIND/DISABLED | E2: Total Adults | F2: Total Children | G2: SOURCE YEAR
A3: ALABAMA | B3: AL | C3: =IF($G3=2012, (payments!C5/eligibles!C5)*(1+'missing st'!B$13),IF($G3=2011, (payments!G5/eligibles!G5)*(1+'missing st'!B$12), "")) -> 1606.3747 | D3: =IF($G3=2012, (payments!D5/eligibles!D5)*(1+'missing st'!C$13),IF($G3=2011, (payments!H5/eligibles!H5)*(1+'missing st'!C$12), "")) -> 6286.2125 | E3: =IF($G3=2012, (payments!E5/eligibles!E5)*(1+'missing st'!D$13),IF($G3=2011, (payments!I5/eligibles!I5)*(1+'missing st'!D$12), "")) -> 1891.494 | F3: =IF($G3=2012, (payments!F5/eligibles!F5)*(1+'missing st'!E$13),IF($G3=2011, (payments!J5/eligibles!J5)*(1+'missing st'!E$12), "")) -> 1787.7184 | G3: 2012
A4: ALASKA | B4: AK | C4: =IF($G4=2012, (payments!C6/eligibles!C6)*(1+'missing st'!B$13),IF($G4=2011, (payments!G6/eligibles!G6)*(1+'missing st'!B$12), "")) -> 18259.695 | D4: =IF($G4=2012, (payments!D6/eligibles!D6)*(1+'missing st'!C$13),IF($G4=2011, (payments!H6/eligibles!H6)*(1+'missing st'!C$12), "")) -> 26996.593 | E4: =IF($G4=2012, (payments!E6/eligibles!E6)*(1+'missing st'!D$13),IF($G4=2011, (payments!I6/eligibles!I6)*(1+'missing st'!D$12), "")) -> 6234.174 | F4: =IF($G4=2012, (payments!F6/eligibles!F6)*(1+'missing st'!E$13),IF($G4=2011, (payments!J6/eligibles!J6)*(1+'missing st'!E$12), "")) -> 4637.8778 | G4: 2012
A5: ARIZONA | B5: AZ | C5: =IF($G5=2012, (payments!C7/eligibles!C7)*(1+'missing st'!B$13),IF($G5=2011, (payments!G7/eligibles!G7)*(1+'missing st'!B$12), "")) -> 11455.005 | D5: =IF($G5=2012, (payments!D7/eligibles!D7)*(1+'missing st'!C$13),IF($G5=2011, (payments!H7/eligibles!H7)*(1+'missing st'!C$12), "")) -> 17519.164 | E5: =IF($G5=2012, (payments!E7/eligibles!E7)*(1+'missing st'!D$13),IF($G5=2011, (payments!I7/eligibles!I7)*(1+'missing st'!D$12), "")) -> 5010.963 | F5: =IF($G5=2012, (payments!F7/eligibles!F7)*(1+'missing st'!E$13),IF($G5=2011, (payments!J7/eligibles!J7)*(1+'missing st'!E$12), "")) -> 2616.6075 | G5: 2011
A6: ARKANSAS | B6: AR | C6: =IF($G6=2012, (payments!C8/eligibles!C8)*(1+'missing st'!B$13),IF($G6=2011, (payments!G8/eligibles!G8)*(1+'missing st'!B$12), "")) -> 5278.9444 | D6: =IF($G6=2012, (payments!D8/eligibles!D8)*(1+'missing st'!C$13),IF($G6=2011, (payments!H8/eligibles!H8)*(1+'missing st'!C$12), "")) -> 9336.535 | E6: =IF($G6=2012, (payments!E8/eligibles!E8)*(1+'missing st'!D$13),IF($G6=2011, (payments!I8/eligibles!I8)*(1+'missing st'!D$12), "")) -> 1548.5583 | F6: =IF($G6=2012, (payments!F8/eligibles!F8)*(1+'missing st'!E$13),IF($G6=2011, (payments!J8/eligibles!J8)*(1+'missing st'!E$12), "")) -> 2535.6316 | G6: 2012
A7: CALIFORNIA | B7: CA | C7: =IF($G7=2012, (payments!C9/eligibles!C9)*(1+'missing st'!B$13),IF($G7=2011, (payments!G9/eligibles!G9)*(1+'missing st'!B$12), "")) -> 5707.9897 | D7: =IF($G7=2012, (payments!D9/eligibles!D9)*(1+'missing st'!C$13),IF($G7=2011, (payments!H9/eligibles!H9)*(1+'missing st'!C$12), "")) -> 12748.675 | E7: =IF($G7=2012, (payments!E9/eligibles!E9)*(1+'missing st'!D$13),IF($G7=2011, (payments!I9/eligibles!I9)*(1+'missing st'!D$12), "")) -> 987.83482 | F7: =IF($G7=2012, (payments!F9/eligibles!F9)*(1+'missing st'!E$13),IF($G7=2011, (payments!J9/eligibles!J9)*(1+'missing st'!E$12), "")) -> 1587.1178 | G7: 2011
A8: COLORADO | B8: CO | C8: =IF($G8=2012, (payments!C10/eligibles!C10)*(1+'missing st'!B$13),IF($G8=2011, (payments!G10/eligibles!G10)*(1+'missing st'!B$12), "")) -> 7777.2285 | D8: =IF($G8=2012, (payments!D10/eligibles!D10)*(1+'missing st'!C$13),IF($G8=2011, (payments!H10/eligibles!H10)*(1+'missing st'!C$12), "")) -> 13619.285 | E8: =IF($G8=2012, (payments!E10/eligibles!E10)*(1+'missing st'!D$13),IF($G8=2011, (payments!I10/eligibles!I10)*(1+'missing st'!D$12), "")) -> 2626.5571 | F8: =IF($G8=2012, (payments!F10/eligibles!F10)*(1+'missing st'!E$13),IF($G8=2011, (payments!J10/eligibles!J10)*(1+'missing st'!E$12), "")) -> 1823.5569 | G8: 2011
A9: CONNECTICUT | B9: CT | C9: =IF($G9=2012, (payments!C11/eligibles!C11)*(1+'missing st'!B$13),IF($G9=2011, (payments!G11/eligibles!G11)*(1+'missing st'!B$12), "")) -> 5547.2444 | D9: =IF($G9=2012, (payments!D11/eligibles!D11)*(1+'missing st'!C$13),IF($G9=2011, (payments!H11/eligibles!H11)*(1+'missing st'!C$12), "")) -> 22026.347 | E9: =IF($G9=2012, (payments!E11/eligibles!E11)*(1+'missing st'!D$13),IF($G9=2011, (payments!I11/eligibles!I11)*(1+'missing st'!D$12), "")) -> 4794.9636 | F9: =IF($G9=2012, (payments!F11/eligibles!F11)*(1+'missing st'!E$13),IF($G9=2011, (payments!J11/eligibles!J11)*(1+'missing st'!E$12), "")) -> 3135.0507 | G9: 2012
A10: DELAWARE | B10: DE | C10: =IF($G10=2012, (payments!C12/eligibles!C12)*(1+'missing st'!B$13),IF($G10=2011, (payments!G12/eligibles!G12)*(1+'missing st'!B$12), "")) -> 9670.413 | D10: =IF($G10=2012, (payments!D12/eligibles!D12)*(1+'missing st'!C$13),IF($G10=2011, (payments!H12/eligibles!H12)*(1+'missing st'!C$12), "")) -> 17411.477 | E10: =IF($G10=2012, (payments!E12/eligibles!E12)*(1+'missing st'!D$13),IF($G10=2011, (payments!I12/eligibles!I12)*(1+'missing st'!D$12), "")) -> 5194.2903 | F10: =IF($G10=2012, (payments!F12/eligibles!F12)*(1+'missing st'!E$13),IF($G10=2011, (payments!J12/eligibles!J12)*(1+'missing st'!E$12), "")) -> 3284.1988 | G10: 2012
A11: DISTRICT OF COLUMBIA | B11: DC | C11: =IF($G11=2012, (payments!C13/eligibles!C13)*(1+'missing st'!B$13),IF($G11=2011, (payments!G13/eligibles!G13)*(1+'missing st'!B$12), "")) -> 4213.7837 | D11: =IF($G11=2012, (payments!D13/eligibles!D13)*(1+'missing st'!C$13),IF($G11=2011, (payments!H13/eligibles!H13)*(1+'missing st'!C$12), "")) -> 24312.85 | E11: =IF($G11=2012, (payments!E13/eligibles!E13)*(1+'missing st'!D$13),IF($G11=2011, (payments!I13/eligibles!I13)*(1+'missing st'!D$12), "")) -> 4521.9755 | F11: =IF($G11=2012, (payments!F13/eligibles!F13)*(1+'missing st'!E$13),IF($G11=2011, (payments!J13/eligibles!J13)*(1+'missing st'!E$12), "")) -> 3029.7347 | G11: 2011
A12: FLORIDA | B12: FL | C12: =IF($G12=2012, (payments!C14/eligibles!C14)*(1+'missing st'!B$13),IF($G12=2011, (payments!G14/eligibles!G14)*(1+'missing st'!B$12), "")) -> 2979.2664 | D12: =IF($G12=2012, (payments!D14/eligibles!D14)*(1+'missing st'!C$13),IF($G12=2011, (payments!H14/eligibles!H14)*(1+'missing st'!C$12), "")) -> 7985.3856 | E12: =IF($G12=2012, (payments!E14/eligibles!E14)*(1+'missing st'!D$13),IF($G12=2011, (payments!I14/eligibles!I14)*(1+'missing st'!D$12), "")) -> 2331.7346 | F12: =IF($G12=2012, (payments!F14/eligibles!F14)*(1+'missing st'!E$13),IF($G12=2011, (payments!J14/eligibles!J14)*(1+'missing st'!E$12), "")) -> 1577.801 | G12: 2011
A13: GEORGIA | B13: GA | C13: =IF($G13=2012, (payments!C15/eligibles!C15)*(1+'missing st'!B$13),IF($G13=2011, (payments!G15/eligibles!G15)*(1+'missing st'!B$12), "")) -> 2362.5992 | D13: =IF($G13=2012, (payments!D15/eligibles!D15)*(1+'missing st'!C$13),IF($G13=2011, (payments!H15/eligibles!H15)*(1+'missing st'!C$12), "")) -> 9349.2084 | E13: =IF($G13=2012, (payments!E15/eligibles!E15)*(1+'missing st'!D$13),IF($G13=2011, (payments!I15/eligibles!I15)*(1+'missing st'!D$12), "")) -> 4733.8566 | F13: =IF($G13=2012, (payments!F15/eligibles!F15)*(1+'missing st'!E$13),IF($G13=2011, (payments!J15/eligibles!J15)*(1+'missing st'!E$12), "")) -> 2252.4876 | G13: 2012
A14: HAWAII | B14: HI | C14: =IF($G14=2012, (payments!C16/eligibles!C16)*(1+'missing st'!B$13),IF($G14=2011, (payments!G16/eligibles!G16)*(1+'missing st'!B$12), "")) -> 14490.4 | D14: =IF($G14=2012, (payments!D16/eligibles!D16)*(1+'missing st'!C$13),IF($G14=2011, (payments!H16/eligibles!H16)*(1+'missing st'!C$12), "")) -> 14537.733 | E14: =IF($G14=2012, (payments!E16/eligibles!E16)*(1+'missing st'!D$13),IF($G14=2011, (payments!I16/eligibles!I16)*(1+'missing st'!D$12), "")) -> 3598.7952 | F14: =IF($G14=2012, (payments!F16/eligibles!F16)*(1+'missing st'!E$13),IF($G14=2011, (payments!J16/eligibles!J16)*(1+'missing st'!E$12), "")) -> 2044.7948 | G14: 2011
A15: IDAHO | B15: ID | C15: =(payments!K17/eligibles!K17) *(1+'missing st'!B$11) -> 3345.3069 | D15: =(payments!L17/eligibles!L17) *(1+'missing st'!C$11) -> 7814.9909 | E15: =(payments!M17/eligibles!M17) *(1+'missing st'!D$11) -> 2525.4808 | F15: =(payments!N17/eligibles!N17) *(1+'missing st'!E$11) -> 1027.0782 | G15: 2010
A16: ILLINOIS | B16: IL | C16: =IF($G16=2012, (payments!C18/eligibles!C18)*(1+'missing st'!B$13),IF($G16=2011, (payments!G18/eligibles!G18)*(1+'missing st'!B$12), "")) -> 4726.1269 | D16: =IF($G16=2012, (payments!D18/eligibles!D18)*(1+'missing st'!C$13),IF($G16=2011, (payments!H18/eligibles!H18)*(1+'missing st'!C$12), "")) -> 10643.246 | E16: =IF($G16=2012, (payments!E18/eligibles!E18)*(1+'missing st'!D$13),IF($G16=2011, (payments!I18/eligibles!I18)*(1+'missing st'!D$12), "")) -> 2109.5548 | F16: =IF($G16=2012, (payments!F18/eligibles!F18)*(1+'missing st'!E$13),IF($G16=2011, (payments!J18/eligibles!J18)*(1+'missing st'!E$12), "")) -> 1715.661 | G16: 2011
A17: INDIANA | B17: IN | C17: =IF($G17=2012, (payments!C19/eligibles!C19)*(1+'missing st'!B$13),IF($G17=2011, (payments!G19/eligibles!G19)*(1+'missing st'!B$12), "")) -> 7646.4194 | D17: =IF($G17=2012, (payments!D19/eligibles!D19)*(1+'missing st'!C$13),IF($G17=2011, (payments!H19/eligibles!H19)*(1+'missing st'!C$12), "")) -> 15259.352 | E17: =IF($G17=2012, (payments!E19/eligibles!E19)*(1+'missing st'!D$13),IF($G17=2011, (payments!I19/eligibles!I19)*(1+'missing st'!D$12), "")) -> 3295.4261 | F17: =IF($G17=2012, (payments!F19/eligibles!F19)*(1+'missing st'!E$13),IF($G17=2011, (payments!J19/eligibles!J19)*(1+'missing st'!E$12), "")) -> 1803.8434 | G17: 2012
A18: IOWA | B18: IA | C18: =IF($G18=2012, (payments!C20/eligibles!C20)*(1+'missing st'!B$13),IF($G18=2011, (payments!G20/eligibles!G20)*(1+'missing st'!B$12), "")) -> 8166.5964 | D18: =IF($G18=2012, (payments!D20/eligibles!D20)*(1+'missing st'!C$13),IF($G18=2011, (payments!H20/eligibles!H20)*(1+'missing st'!C$12), "")) -> 15544.461 | E18: =IF($G18=2012, (payments!E20/eligibles!E20)*(1+'missing st'!D$13),IF($G18=2011, (payments!I20/eligibles!I20)*(1+'missing st'!D$12), "")) -> 1803.3136 | F18: =IF($G18=2012, (payments!F20/eligibles!F20)*(1+'missing st'!E$13),IF($G18=2011, (payments!J20/eligibles!J20)*(1+'missing st'!E$12), "")) -> 2130.6755 | G18: 2012
A19: KANSAS | B19: KS | C19: =(payments!K21/eligibles!K21) *(1+'missing st'!B$11) -> 8497.9555 | D19: =(payments!L21/eligibles!L21) *(1+'missing st'!C$11) -> 14069.736 | E19: =(payments!M21/eligibles!M21) *(1+'missing st'!D$11) -> 3686.9861 | F19: =(payments!N21/eligibles!N21) *(1+'missing st'!E$11) -> 2307.5955 | G19: 2010
A20: KENTUCKY | B20: KY | C20: =IF($G20=2012, (payments!C22/eligibles!C22)*(1+'missing st'!B$13),IF($G20=2011, (payments!G22/eligibles!G22)*(1+'missing st'!B$12), "")) -> 1893.3304 | D20: =IF($G20=2012, (payments!D22/eligibles!D22)*(1+'missing st'!C$13),IF($G20=2011, (payments!H22/eligibles!H22)*(1+'missing st'!C$12), "")) -> 9509.0087 | E20: =IF($G20=2012, (payments!E22/eligibles!E22)*(1+'missing st'!D$13),IF($G20=2011, (payments!I22/eligibles!I22)*(1+'missing st'!D$12), "")) -> 4862.4198 | F20: =IF($G20=2012, (payments!F22/eligibles!F22)*(1+'missing st'!E$13),IF($G20=2011, (payments!J22/eligibles!J22)*(1+'missing st'!E$12), "")) -> 3090.3056 | G20: 2012
A21: LOUISIANA | B21: LA | C21: =IF($G21=2012, (payments!C23/eligibles!C23)*(1+'missing st'!B$13),IF($G21=2011, (payments!G23/eligibles!G23)*(1+'missing st'!B$12), "")) -> 3588.2735 | D21: =IF($G21=2012, (payments!D23/eligibles!D23)*(1+'missing st'!C$13),IF($G21=2011, (payments!H23/eligibles!H23)*(1+'missing st'!C$12), "")) -> 9113.6956 | E21: =IF($G21=2012, (payments!E23/eligibles!E23)*(1+'missing st'!D$13),IF($G21=2011, (payments!I23/eligibles!I23)*(1+'missing st'!D$12), "")) -> 2107.8802 | F21: =IF($G21=2012, (payments!F23/eligibles!F23)*(1+'missing st'!E$13),IF($G21=2011, (payments!J23/eligibles!J23)*(1+'missing st'!E$12), "")) -> 1748.7657 | G21: 2011
A22: MAINE | B22: ME | C22: =(payments!K24/eligibles!K24) *(1+'missing st'!B$11) -> 1474.0036 | D22: =(payments!L24/eligibles!L24) *(1+'missing st'!C$11) -> 6013.8356 | E22: =(payments!M24/eligibles!M24) *(1+'missing st'!D$11) -> 1551.4524 | F22: =(payments!N24/eligibles!N24) *(1+'missing st'!E$11) -> 1904.2476 | G22: 2010
A23: MARYLAND | B23: MD | C23: =IF($G23=2012, (payments!C25/eligibles!C25)*(1+'missing st'!B$13),IF($G23=2011, (payments!G25/eligibles!G25)*(1+'missing st'!B$12), "")) -> 4337.8288 | D23: =IF($G23=2012, (payments!D25/eligibles!D25)*(1+'missing st'!C$13),IF($G23=2011, (payments!H25/eligibles!H25)*(1+'missing st'!C$12), "")) -> 19861.76 | E23: =IF($G23=2012, (payments!E25/eligibles!E25)*(1+'missing st'!D$13),IF($G23=2011, (payments!I25/eligibles!I25)*(1+'missing st'!D$12), "")) -> 4195.1266 | F23: =IF($G23=2012, (payments!F25/eligibles!F25)*(1+'missing st'!E$13),IF($G23=2011, (payments!J25/eligibles!J25)*(1+'missing st'!E$12), "")) -> 2677.2946 | G23: 2012
A24: MASSACHUSETTS | B24: MA | C24: =IF($G24=2012, (payments!C26/eligibles!C26)*(1+'missing st'!B$13),IF($G24=2011, (payments!G26/eligibles!G26)*(1+'missing st'!B$12), "")) -> 7505.8176 | D24: =IF($G24=2012, (payments!D26/eligibles!D26)*(1+'missing st'!C$13),IF($G24=2011, (payments!H26/eligibles!H26)*(1+'missing st'!C$12), "")) -> 12334.179 | E24: =IF($G24=2012, (payments!E26/eligibles!E26)*(1+'missing st'!D$13),IF($G24=2011, (payments!I26/eligibles!I26)*(1+'missing st'!D$12), "")) -> 3417.487 | F24: =IF($G24=2012, (payments!F26/eligibles!F26)*(1+'missing st'!E$13),IF($G24=2011, (payments!J26/eligibles!J26)*(1+'missing st'!E$12), "")) -> 3558.9605 | G24: 2011
A25: MICHIGAN | B25: MI | C25: =IF($G25=2012, (payments!C27/eligibles!C27)*(1+'missing st'!B$13),IF($G25=2011, (payments!G27/eligibles!G27)*(1+'missing st'!B$12), "")) -> 4934.271 | D25: =IF($G25=2012, (payments!D27/eligibles!D27)*(1+'missing st'!C$13),IF($G25=2011, (payments!H27/eligibles!H27)*(1+'missing st'!C$12), "")) -> 13230.812 | E25: =IF($G25=2012, (payments!E27/eligibles!E27)*(1+'missing st'!D$13),IF($G25=2011, (payments!I27/eligibles!I27)*(1+'missing st'!D$12), "")) -> 3339.0388 | F25: =IF($G25=2012, (payments!F27/eligibles!F27)*(1+'missing st'!E$13),IF($G25=2011, (payments!J27/eligibles!J27)*(1+'missing st'!E$12), "")) -> 1944.6863 | G25: 2012
A26: MINNESOTA | B26: MN | C26: =IF($G26=2012, (payments!C28/eligibles!C28)*(1+'missing st'!B$13),IF($G26=2011, (payments!G28/eligibles!G28)*(1+'missing st'!B$12), "")) -> 11989.459 | D26: =IF($G26=2012, (payments!D28/eligibles!D28)*(1+'missing st'!C$13),IF($G26=2011, (payments!H28/eligibles!H28)*(1+'missing st'!C$12), "")) -> 24552.386 | E26: =IF($G26=2012, (payments!E28/eligibles!E28)*(1+'missing st'!D$13),IF($G26=2011, (payments!I28/eligibles!I28)*(1+'missing st'!D$12), "")) -> 3395.8017 | F26: =IF($G26=2012, (payments!F28/eligibles!F28)*(1+'missing st'!E$13),IF($G26=2011, (payments!J28/eligibles!J28)*(1+'missing st'!E$12), "")) -> 3494.485 | G26: 2011
A27: MISSISSIPPI | B27: MS | C27: =IF($G27=2012, (payments!C29/eligibles!C29)*(1+'missing st'!B$13),IF($G27=2011, (payments!G29/eligibles!G29)*(1+'missing st'!B$12), "")) -> 3746.7445 | D27: =IF($G27=2012, (payments!D29/eligibles!D29)*(1+'missing st'!C$13),IF($G27=2011, (payments!H29/eligibles!H29)*(1+'missing st'!C$12), "")) -> 9025.6541 | E27: =IF($G27=2012, (payments!E29/eligibles!E29)*(1+'missing st'!D$13),IF($G27=2011, (payments!I29/eligibles!I29)*(1+'missing st'!D$12), "")) -> 3544.1122 | F27: =IF($G27=2012, (payments!F29/eligibles!F29)*(1+'missing st'!E$13),IF($G27=2011, (payments!J29/eligibles!J29)*(1+'missing st'!E$12), "")) -> 2180.0311 | G27: 2012
A28: MISSOURI | B28: MO | C28: =IF($G28=2012, (payments!C30/eligibles!C30)*(1+'missing st'!B$13),IF($G28=2011, (payments!G30/eligibles!G30)*(1+'missing st'!B$12), "")) -> 7272.7004 | D28: =IF($G28=2012, (payments!D30/eligibles!D30)*(1+'missing st'!C$13),IF($G28=2011, (payments!H30/eligibles!H30)*(1+'missing st'!C$12), "")) -> 13295.791 | E28: =IF($G28=2012, (payments!E30/eligibles!E30)*(1+'missing st'!D$13),IF($G28=2011, (payments!I30/eligibles!I30)*(1+'missing st'!D$12), "")) -> 2537.0923 | F28: =IF($G28=2012, (payments!F30/eligibles!F30)*(1+'missing st'!E$13),IF($G28=2011, (payments!J30/eligibles!J30)*(1+'missing st'!E$12), "")) -> 2823.3124 | G28: 2012
A29: MONTANA | B29: MT | C29: =IF($G29=2012, (payments!C31/eligibles!C31)*(1+'missing st'!B$13),IF($G29=2011, (payments!G31/eligibles!G31)*(1+'missing st'!B$12), "")) -> 4197.0539 | D29: =IF($G29=2012, (payments!D31/eligibles!D31)*(1+'missing st'!C$13),IF($G29=2011, (payments!H31/eligibles!H31)*(1+'missing st'!C$12), "")) -> 10871.022 | E29: =IF($G29=2012, (payments!E31/eligibles!E31)*(1+'missing st'!D$13),IF($G29=2011, (payments!I31/eligibles!I31)*(1+'missing st'!D$12), "")) -> 4068.8028 | F29: =IF($G29=2012, (payments!F31/eligibles!F31)*(1+'missing st'!E$13),IF($G29=2011, (payments!J31/eligibles!J31)*(1+'missing st'!E$12), "")) -> 2842.1467 | G29: 2012
A30: NEBRASKA | B30: NE | C30: =IF($G30=2012, (payments!C32/eligibles!C32)*(1+'missing st'!B$13),IF($G30=2011, (payments!G32/eligibles!G32)*(1+'missing st'!B$12), "")) -> 7839.495 | D30: =IF($G30=2012, (payments!D32/eligibles!D32)*(1+'missing st'!C$13),IF($G30=2011, (payments!H32/eligibles!H32)*(1+'missing st'!C$12), "")) -> 14888.015 | E30: =IF($G30=2012, (payments!E32/eligibles!E32)*(1+'missing st'!D$13),IF($G30=2011, (payments!I32/eligibles!I32)*(1+'missing st'!D$12), "")) -> 3842.7806 | F30: =IF($G30=2012, (payments!F32/eligibles!F32)*(1+'missing st'!E$13),IF($G30=2011, (payments!J32/eligibles!J32)*(1+'missing st'!E$12), "")) -> 2204.728 | G30: 2011
A31: NEVADA | B31: NV | C31: =IF($G31=2012, (payments!C33/eligibles!C33)*(1+'missing st'!B$13),IF($G31=2011, (payments!G33/eligibles!G33)*(1+'missing st'!B$12), "")) -> 3507.6294 | D31: =IF($G31=2012, (payments!D33/eligibles!D33)*(1+'missing st'!C$13),IF($G31=2011, (payments!H33/eligibles!H33)*(1+'missing st'!C$12), "")) -> 10441.577 | E31: =IF($G31=2012, (payments!E33/eligibles!E33)*(1+'missing st'!D$13),IF($G31=2011, (payments!I33/eligibles!I33)*(1+'missing st'!D$12), "")) -> 2236.0725 | F31: =IF($G31=2012, (payments!F33/eligibles!F33)*(1+'missing st'!E$13),IF($G31=2011, (payments!J33/eligibles!J33)*(1+'missing st'!E$12), "")) -> 1985.1529 | G31: 2011
A32: NEW HAMPSHIRE | B32: NH | C32: =IF($G32=2012, (payments!C34/eligibles!C34)*(1+'missing st'!B$13),IF($G32=2011, (payments!G34/eligibles!G34)*(1+'missing st'!B$12), "")) -> 6883.7498 | D32: =IF($G32=2012, (payments!D34/eligibles!D34)*(1+'missing st'!C$13),IF($G32=2011, (payments!H34/eligibles!H34)*(1+'missing st'!C$12), "")) -> 14168.682 | E32: =IF($G32=2012, (payments!E34/eligibles!E34)*(1+'missing st'!D$13),IF($G32=2011, (payments!I34/eligibles!I34)*(1+'missing st'!D$12), "")) -> 3415.0784 | F32: =IF($G32=2012, (payments!F34/eligibles!F34)*(1+'missing st'!E$13),IF($G32=2011, (payments!J34/eligibles!J34)*(1+'missing st'!E$12), "")) -> 2690.9674 | G32: 2012
A33: NEW JERSEY | B33: NJ | C33: =IF($G33=2012, (payments!C35/eligibles!C35)*(1+'missing st'!B$13),IF($G33=2011, (payments!G35/eligibles!G35)*(1+'missing st'!B$12), "")) -> 7320.6754 | D33: =IF($G33=2012, (payments!D35/eligibles!D35)*(1+'missing st'!C$13),IF($G33=2011, (payments!H35/eligibles!H35)*(1+'missing st'!C$12), "")) -> 15399.419 | E33: =IF($G33=2012, (payments!E35/eligibles!E35)*(1+'missing st'!D$13),IF($G33=2011, (payments!I35/eligibles!I35)*(1+'missing st'!D$12), "")) -> 3852.6085 | F33: =IF($G33=2012, (payments!F35/eligibles!F35)*(1+'missing st'!E$13),IF($G33=2011, (payments!J35/eligibles!J35)*(1+'missing st'!E$12), "")) -> 2420.1458 | G33: 2011
A34: NEW MEXICO | B34: NM | C34: =IF($G34=2012, (payments!C36/eligibles!C36)*(1+'missing st'!B$13),IF($G34=2011, (payments!G36/eligibles!G36)*(1+'missing st'!B$12), "")) -> 853.34407 | D34: =IF($G34=2012, (payments!D36/eligibles!D36)*(1+'missing st'!C$13),IF($G34=2011, (payments!H36/eligibles!H36)*(1+'missing st'!C$12), "")) -> 9460.3287 | E34: =IF($G34=2012, (payments!E36/eligibles!E36)*(1+'missing st'!D$13),IF($G34=2011, (payments!I36/eligibles!I36)*(1+'missing st'!D$12), "")) -> 3281.2219 | F34: =IF($G34=2012, (payments!F36/eligibles!F36)*(1+'missing st'!E$13),IF($G34=2011, (payments!J36/eligibles!J36)*(1+'missing st'!E$12), "")) -> 2469.7347 | G34: 2012
... A38: OHIO | B38: OH | C38: =IF($G38=2012, (payments!C40/eligibles!C40)*(1+'missing st'!B$13),IF($G38=2011, (payments!G40/eligibles!G40)*(1+'missing st'!B$12), "")) -> 9675.1181 | D38: =IF($G38=2012, (payments!D40/eligibles!D40)*(1+'missing st'!C$13),IF($G38=2011, (payments!H40/eligibles!H40)*(1+'missing st'!C$12), "")) -> 15131.069 | E38: =IF($G38=2012, (payments!E40/eligibles!E40)*(1+'missing st'!D$13),IF($G38=2011, (payments!I40/eligibles!I40)*(1+'missing st'!D$12), "")) -> 4176.3642 | F38: =IF($G38=2012, (payments!F40/eligibles!F40)*(1+'missing st'!E$13),IF($G38=2011, (payments!J40/eligibles!J40)*(1+'missing st'!E$12), "")) -> 2322.7804 | G38: 2011
A39: OKLAHOMA | B39: OK | C39: =(payments!K41/eligibles!K41) *(1+'missing st'!B$11) -> 4694.1284 | D39: =(payments!L41/eligibles!L41) *(1+'missing st'!C$11) -> 11265.267 | E39: =(payments!M41/eligibles!M41) *(1+'missing st'!D$11) -> 2539.8018 | F39: =(payments!N41/eligibles!N41) *(1+'missing st'!E$11) -> 2330.3674 | G39: 2010
A40: OREGON | B40: OR | C40: =IF($G40=2012, (payments!C42/eligibles!C42)*(1+'missing st'!B$13),IF($G40=2011, (payments!G42/eligibles!G42)*(1+'missing st'!B$12), "")) -> 6537.2821 | D40: =IF($G40=2012, (payments!D42/eligibles!D42)*(1+'missing st'!C$13),IF($G40=2011, (payments!H42/eligibles!H42)*(1+'missing st'!C$12), "")) -> 11872.132 | E40: =IF($G40=2012, (payments!E42/eligibles!E42)*(1+'missing st'!D$13),IF($G40=2011, (payments!I42/eligibles!I42)*(1+'missing st'!D$12), "")) -> 5159.0874 | F40: =IF($G40=2012, (payments!F42/eligibles!F42)*(1+'missing st'!E$13),IF($G40=2011, (payments!J42/eligibles!J42)*(1+'missing st'!E$12), "")) -> 2140.9912 | G40: 2012
A41: PENNSYLVANIA | B41: PA | C41: =IF($G41=2012, (payments!C43/eligibles!C43)*(1+'missing st'!B$13),IF($G41=2011, (payments!G43/eligibles!G43)*(1+'missing st'!B$12), "")) -> 5736.6401 | D41: =IF($G41=2012, (payments!D43/eligibles!D43)*(1+'missing st'!C$13),IF($G41=2011, (payments!H43/eligibles!H43)*(1+'missing st'!C$12), "")) -> 12950.743 | E41: =IF($G41=2012, (payments!E43/eligibles!E43)*(1+'missing st'!D$13),IF($G41=2011, (payments!I43/eligibles!I43)*(1+'missing st'!D$12), "")) -> 3451.1414 | F41: =IF($G41=2012, (payments!F43/eligibles!F43)*(1+'missing st'!E$13),IF($G41=2011, (payments!J43/eligibles!J43)*(1+'missing st'!E$12), "")) -> 3239.8482 | G41: 2011
A42: RHODE ISLAND | B42: RI | C42: =IF($G42=2012, (payments!C44/eligibles!C44)*(1+'missing st'!B$13),IF($G42=2011, (payments!G44/eligibles!G44)*(1+'missing st'!B$12), "")) -> 5189.7155 | D42: =IF($G42=2012, (payments!D44/eligibles!D44)*(1+'missing st'!C$13),IF($G42=2011, (payments!H44/eligibles!H44)*(1+'missing st'!C$12), "")) -> 12026.449 | E42: =IF($G42=2012, (payments!E44/eligibles!E44)*(1+'missing st'!D$13),IF($G42=2011, (payments!I44/eligibles!I44)*(1+'missing st'!D$12), "")) -> 3828.6215 | F42: =IF($G42=2012, (payments!F44/eligibles!F44)*(1+'missing st'!E$13),IF($G42=2011, (payments!J44/eligibles!J44)*(1+'missing st'!E$12), "")) -> 3088.0536 | G42: 2011
A43: SOUTH CAROLINA | B43: SC | C43: =IF($G43=2012, (payments!C45/eligibles!C45)*(1+'missing st'!B$13),IF($G43=2011, (payments!G45/eligibles!G45)*(1+'missing st'!B$12), "")) -> 3654.3327 | D43: =IF($G43=2012, (payments!D45/eligibles!D45)*(1+'missing st'!C$13),IF($G43=2011, (payments!H45/eligibles!H45)*(1+'missing st'!C$12), "")) -> 9764.2947 | E43: =IF($G43=2012, (payments!E45/eligibles!E45)*(1+'missing st'!D$13),IF($G43=2011, (payments!I45/eligibles!I45)*(1+'missing st'!D$12), "")) -> 3425.1849 | F43: =IF($G43=2012, (payments!F45/eligibles!F45)*(1+'missing st'!E$13),IF($G43=2011, (payments!J45/eligibles!J45)*(1+'missing st'!E$12), "")) -> 2072.5641 | G43: 2011
...

Sheet missing st
A1: Table 7—Past and Projected Medicaid Expenditures on Medical Assistance Payments
A2: Per Enrollee, by Enrollment Category, FY 2000–FY 2022
A3: (in dollars per person-year equivalent enrollee)
A5: National1
A6: Year | B6: AGED | C6: BLIND/DISABLED | D6: Total Adults | E6: Total Children
A7: 2010 | B7: 15470 | C7: 17494 | D7: 4058 | E7: 2598
A8: 2011 | B8: 15803 | C8: 17950 | D8: 4206 | E8: 2630
A9: 2012 | B9: 15688 | C9: 17255 | D9: 4101 | E9: 2700
A10: 2013 | B10: 16162 | C10: 18089 | D10: 4381 | E10: 2889
A11: Change 2010-2013 | B11: =(B10-B7)/B7 -> 0.044731739 | C11: =(C10-C7)/C7 -> 0.034011661 | D11: =(D10-D7)/D7 -> 0.07959586 | E11: =(E10-E7)/E7 -> 0.11200924
A12: Change 2011-2013 | B12: =(B10-B8)/B8 -> 0.022717206 | C12: =(C10-C8)/C8 -> 0.0077437326 | D12: =(D10-D8)/D8 -> 0.041607228 | E12: =(E10-E8)/E8 -> 0.098479087
A13: Change 2012-2013 | B13: =(B10-B9)/B9 -> 0.030214176 | C13: =(C10-C9)/C9 -> 0.048333816 | D13: =(D10-D9)/D9 -> 0.06827603 | E13: =(E10-E9)/E9 -> 0.07
A17: 1Data for 2010, 2011, 2013, 2013 is from the 2013 Actuarial Report on the Finacial Outlook for Medicaid (http://www.medicaid.gov/Medicaid-CHIP-Program-Information/By-Topics/Financing-and-Reimbursement/Downloads/medicaid-actuarial-report-2013.pdf). 2011-2103 are projections.

Sheet eligibles
C1: 2012 Medicaid Eligibles | G1: 2011 Medicaid Eligibles | K1: 2010 Medicaid Eligibles
A3: STATE | C3: TOTAL | G3: TOTAL | K3: TOTAL
C4: AGED | D4: BLIND/DISABLED | E4: Total Adults | F4: Total Children | G4: AGED | H4: BLIND/DISABLED | I4: Total Adults | J4: Total Children | K4: AGED | L4: BLIND/DISABLED | M4: Total Adults | N4: Total Children
A5: ALABAMA | B5: AL | C5: 82061 | D5: 242504 | E5: 196966 | F5: 558736
A6: ALASKA | B6: AK | C6: 7848 | D6: 19315 | E6: 35239 | F6: 87118
A7: ARIZONA | B7: AZ | G7: 68569 | H7: 145101 | I7: 473948 | J7: 562715
A8: ARKANSAS | B8: AR | C8: 56297 | D8: 150028 | E8: 110380 | F8: 443109
A9: CALIFORNIA | B9: CA | G9: 605575 | H9: 1108991 | I9: 4906051 | J9: 4320590
A10: COLORADO | B10: CO | G10: 46496 | H10: 100508 | I10: 161276 | J10: 437628
A11: CONNECTICUT | B11: CT | C11: 84809 | D11: 62998 | E11: 300449 | F11: 322939
A12: DELAWARE | B12: DE | C12: 12586 | D12: 26599 | E12: 111267 | F12: 100171
A13: DISTRICT OF COLUMBIA | B13: DC | G13: 8640 | H13: 37270 | I13: 80464 | J13: 63686
A14: FLORIDA | B14: FL | G14: 393546 | H14: 634722 | I14: 676010 | J14: 1969616
A15: GEORGIA | B15: GA | C15: 129699 | D15: 343836 | E15: 333217 | F15: 1128228
A16: HAWAII | B16: HI | G16: 22261 | H16: 28330 | I16: 110135 | J16: 143505
A17: IDAHO | B17: ID | K17: 25369 | L17: 71435 | M17: 46877 | N17: 282266
A18: ILLINOIS | B18: IL | G18: 82754 | H18: 263930 | I18: 512389 | J18: 1646559
A19: INDIANA | B19: IN | C19: 66294 | D19: 196359 | E19: 254877 | F19: 738075
A20: IOWA | B20: IA | C20: 29111 | D20: 82092 | E20: 201651 | F20: 304709
A21: KANSAS | B21: KS | K21: 24072 | L21: 70561 | M21: 56158 | N21: 222188
A22: KENTUCKY | B22: KY | C22: 55173 | D22: 251178 | E22: 127480 | F22: 495789
A23: LOUISIANA | B23: LA | G23: 93658 | H23: 222864 | I23: 245963 | J23: 790044
A24: MAINE | B24: ME | K24: 56589 | L24: 104069 | M24: 111435 | N24: 137005
A25: MARYLAND | B25: MD | C25: 44028 | D25: 137753 | E25: 352421 | F25: 622737
A26: MASSACHUSETTS | B26: MA | G26: 86459 | H26: 357625 | I26: 620865 | J26: 441840
A27: MICHIGAN | B27: MI | C27: 112147 | D27: 368734 | E27: 491265 | F27: 1131246
A28: MINNESOTA | B28: MN | G28: 67652 | H28: 121588 | I28: 400574 | J28: 455095
A29: MISSISSIPPI | B29: MS | C29: 73956 | D29: 167699 | E29: 115449 | F29: 400842
A30: MISSOURI | B30: MO | C30: 63032 | D30: 217913 | E30: 239821 | F30: 637634
A31: MONTANA | B31: MT | C31: 8427 | D31: 22738 | E31: 21103 | F31: 85239
A32: NEBRASKA | B32: NE | G32: 5936 | H32: 37712 | I32: 18728 | J32: 186367
A33: NEVADA | B33: NV | G33: 25220 | H33: 49414 | I33: 76158 | J33: 232069
A34: NEW HAMPSHIRE | B34: NH | C34: 9972 | D34: 28091 | E34: 19376 | F34: 106381
A35: NEW JERSEY | B35: NJ | G35: 88879 | H35: 203481 | I35: 280346 | J35: 689394
A36: NEW MEXICO | B36: NM | C36: 31099 | D36: 81989 | E36: 177208 | F36: 364082
A37: NEW YORK | B37: NY | G37: 269799 | H37: 611427 | I37: 2165791 | J37: 1920402
A38: NORTH CAROLINA | B38: NC | G38: 144736 | H38: 314023 | I38: 384884 | J38: 1055141
A39: NORTH DAKOTA | B39: ND | G39: 3351 | H39: 8528 | I39: 13496 | J39: 46586
A40: OHIO | B40: OH | G40: 129533 | H40: 377091 | I40: 631649 | J40: 1326744
A41: OKLAHOMA | B41: OK | K41: 51260 | L41: 116296 | M41: 176116 | N41: 538829
...

Sheet payments
C1: 2012 Medicaid Payments | G1: 2011 Medicaid Payments | K1: 2010 Medicaid Payments
A3: STATE | C3: TOTAL | G3: TOTAL | K3: TOTAL
C4: AGED | D4: BLIND/DISABLED | E4: Total Adults | F4: Total Children | G4: AGED | H4: BLIND/DISABLED | I4: Total Adults | J4: Total Children | K4: AGED | L4: BLIND/DISABLED | M4: Total Adults | N4: Total Children
A5: ALABAMA | B5: AL | C5: 127954669 | D5: 1454147188 | E5: 348748818 | F5: 933516460
A6: ALASKA | B6: AK | C6: 139099313 | D6: 497398048 | E6: 205645406 | F6: 377609941
A7: ARIZONA | B7: AZ | G7: 768011170 | H7: 2522514483 | I7: 2280068540 | J7: 1340402666
A8: ARKANSAS | B8: AR | C8: 288472765 | D8: 1336159956 | E8: 160005338 | F8: 1050057179
A9: CALIFORNIA | B9: CA | G9: 3379835438 | H9: 14029525368 | I9: 4652778800 | J9: 6242527013
A10: COLORADO | B10: CO | G10: 353577717 | H10: 1358328520 | I10: 406679797 | J10: 726495002
A11: CONNECTICUT | B11: CT | C11: 456658684 | D11: 1323639258 | E11: 1348567216 | F11: 946196384
A12: DELAWARE | B12: DE | C12: 118142247 | D12: 441775192 | E12: 541014756 | F12: 307459328
A13: DISTRICT OF COLUMBIA | B13: DC | G13: 35598395 | H13: 899176952 | I13: 349321922 | J13: 175653490
A14: FLORIDA | B14: FL | G14: 1146434594 | H14: 5029552386 | I14: 1513311218 | J14: 2829059016
A15: GEORGIA | B15: GA | C15: 297439852 | D15: 3066384363 | E15: 1476586058 | F15: 2375065031
A16: HAWAII | B16: HI | G16: 315405665 | H16: 408689196 | I16: 380520885 | J16: 267131414
A17: IDAHO | B17: ID | K17: 81233381 | L17: 539900944 | M17: 109658594 | N17: 260707590
A18: ILLINOIS | B18: IL | G18: 382418431 | H18: 2787486418 | I18: 1037735371 | J18: 2571680345
A19: INDIANA | B19: IN | C19: 492044991 | D19: 2858165007 | E19: 786246527 | F19: 1244272601
A20: IOWA | B20: IA | C20: 230765402 | D20: 1217241964 | E20: 340398914 | F20: 606762619
A21: KANSAS | B21: KS | K21: 195804125 | L21: 960119407 | M21: 191788219 | N21: 461075339
A22: KENTUCKY | B22: KY | C22: 101397087 | D22: 2278333236 | E22: 580244483 | F22: 1431906087
A23: LOUISIANA | B23: LA | G23: 328605522 | H23: 2015507105 | I23: 497750517 | J23: 1257740719
A24: MAINE | B24: ME | K24: 79840963 | L24: 605267697 | M24: 160139643 | N24: 234612663
A25: MARYLAND | B25: MD | C25: 185384680 | D25: 2609871921 | E25: 1383959464 | F25: 1558177961
A26: MASSACHUSETTS | B26: MA | G26: 634530722 | H26: 4377115419 | I26: 2037042393 | J26: 1431516647
A27: MICHIGAN | B27: MI | C27: 537134613 | D27: 4653718439 | E27: 1535514110 | F27: 2055998677
A28: MINNESOTA | B28: MN | G28: 793094012 | H28: 2962335927 | I28: 1305933605 | J28: 1447749584
A29: MISSISSIPPI | B29: MS | C29: 268967603 | D29: 1443808403 | E29: 383013559 | F29: 816680400
A30: MISSOURI | B30: MO | C30: 444968492 | D30: 2763743491 | E30: 569560665 | F30: 1682467291
A31: MONTANA | B31: MT | C31: 34331282 | D31: 235788732 | E31: 80376179 | F31: 226412847
A32: NEBRASKA | B32: NE | G32: 45501574 | H32: 557142469 | I32: 69092834 | J32: 374052217
A33: NEVADA | B33: NV | G33: 86497434 | H33: 511995340 | I33: 163492343 | J33: 419391184
A34: NEW HAMPSHIRE | B34: NH | C34: 66631536 | D34: 379661926 | E34: 61941444 | F34: 267540000
A35: NEW JERSEY | B35: NJ | G35: 636201585 | H35: 3109410713 | I35: 1036920008 | J35: 1518858195
A36: NEW MEXICO | B36: NM | C36: 25759835 | D36: 739881592 | E36: 544296383 | F36: 840360706
A37: NEW YORK | B37: NY | G37: 3254455333 | H37: 12926045384 | I37: 9181137533 | J37: 4807487591
A38: NORTH CAROLINA | B38: NC | G38: 639815544 | H38: 3542125030 | I38: 1155028632 | J38: 2192885545
A39: NORTH DAKOTA | B39: ND | G39: 13711183 | H39: 147153791 | I39: 50312903 | J39: 117468307
A40: OHIO | B40: OH | G40: 1225409200 | H40: 5661945436 | I40: 2532620931 | J40: 2805456204
A41: OKLAHOMA | B41: OK | K41: 230318476 | L41: 1267012284 | M41: 414321468 | N41: 1129189860
...
